BEGIN:VCALENDAR
VERSION:2.0
PRODID:-//Babcock-Smith House Museum - ECPv6.15.20//NONSGML v1.0//EN
CALSCALE:GREGORIAN
METHOD:PUBLISH
X-WR-CALNAME:Babcock-Smith House Museum
X-ORIGINAL-URL:https://babcocksmithhouse.org
X-WR-CALDESC:Events for Babcock-Smith House Museum
REFRESH-INTERVAL;VALUE=DURATION:PT1H
X-Robots-Tag:noindex
X-PUBLISHED-TTL:PT1H
BEGIN:VTIMEZONE
TZID:UTC
BEGIN:STANDARD
TZOFFSETFROM:+0000
TZOFFSETTO:+0000
TZNAME:UTC
DTSTART:20140101T000000
END:STANDARD
END:VTIMEZONE
BEGIN:VEVENT
DTSTART;TZID=UTC:20161113T140000
DTEND;TZID=UTC:20161113T170000
DTSTAMP:20260421T175314
CREATED:20230903T082007Z
LAST-MODIFIED:20230911T055926Z
UID:1093-1479045600-1479056400@babcocksmithhouse.org
SUMMARY:Coopering: the Art of Making Barrels
DESCRIPTION:Presented by Sam Pierson\, volunteer cooper at Mystic Seaport \nAt the Carriage House.  Not-yet members $5.00; members free.
URL:https://babcocksmithhouse.org/event/coopering-the-art-of-making-barrels/
LOCATION:BSHM Carriage House\, 124 Granite Street\, Westerly\, RI\, 02891\, United States
ATTACH;FMTTYPE=image/jpeg:https://babcocksmithhouse.org/wp-content/uploads/2023/09/2016-Coopering.jpg
END:VEVENT
BEGIN:VEVENT
DTSTART;TZID=UTC:20161106T140000
DTEND;TZID=UTC:20161106T170000
DTSTAMP:20260421T175314
CREATED:20230903T081918Z
LAST-MODIFIED:20230911T055931Z
UID:1091-1478440800-1478451600@babcocksmithhouse.org
SUMMARY:Quonset Air Museum
DESCRIPTION:Don King will speak about the Quonset Air Museum:  its collections and past and future plans. \nAt the Carriage House.  Not-yet members $5.00; members free.
URL:https://babcocksmithhouse.org/event/quonset-air-museum/
LOCATION:BSHM Carriage House\, 124 Granite Street\, Westerly\, RI\, 02891\, United States
ATTACH;FMTTYPE=image/jpeg:https://babcocksmithhouse.org/wp-content/uploads/2023/09/westerly-hist-soc-logo1.jpg
END:VEVENT
BEGIN:VEVENT
DTSTART;TZID=UTC:20161002T140000
DTEND;TZID=UTC:20161002T170000
DTSTAMP:20260421T175314
CREATED:20230903T081830Z
LAST-MODIFIED:20230911T055936Z
UID:1089-1475416800-1475427600@babcocksmithhouse.org
SUMMARY:Classic Car Restoration and History
DESCRIPTION:Robert Degoursey from the Westerly Pawcatuck Region of the Antique Automobiles Club of America to speak about classic car resotration and history.  Come early to see the classic cars parked at the Babcock-Smith House for the event. \nAt the Carriage House.  Not-yet members $5.00; members free.
URL:https://babcocksmithhouse.org/event/classic-car-restoration-and-history/
LOCATION:BSHM Carriage House\, 124 Granite Street\, Westerly\, RI\, 02891\, United States
ATTACH;FMTTYPE=image/jpeg:https://babcocksmithhouse.org/wp-content/uploads/2023/09/westerly-hist-soc-logo1.jpg
END:VEVENT
BEGIN:VEVENT
DTSTART;TZID=UTC:20161001T100000
DTEND;TZID=UTC:20161001T160000
DTSTAMP:20260421T175314
CREATED:20230903T081738Z
LAST-MODIFIED:20230911T055940Z
UID:1086-1475316000-1475337600@babcocksmithhouse.org
SUMMARY:South County Sampler Initiative Documentation Day
DESCRIPTION:Bring your sampler from the 17th\, 18th or 19th century to be photographed\, documented and entered into a national database. \nAt the Carriage House.  Not-yet members $5.00; members free.
URL:https://babcocksmithhouse.org/event/south-county-sampler-initiative-documentation-day/
LOCATION:BSHM Carriage House\, 124 Granite Street\, Westerly\, RI\, 02891\, United States
ATTACH;FMTTYPE=image/jpeg:https://babcocksmithhouse.org/wp-content/uploads/2023/09/FacebookSampler-sm.jpg
END:VEVENT
BEGIN:VEVENT
DTSTART;TZID=UTC:20160925T140000
DTEND;TZID=UTC:20160925T150000
DTSTAMP:20260421T175314
CREATED:20230903T081637Z
LAST-MODIFIED:20231105T045645Z
UID:1082-1474812000-1474815600@babcocksmithhouse.org
SUMMARY:Samplers and their Role in our Culture and Folklore
DESCRIPTION:Susan Jerome\, our ever-popular “textilian\,” will discuss and illustrate the role of samplers. Although attendees are welcome to bring one sampler to this event\, they may bring multiple samplers to our upcoming Sampler Documentation Day event being held on October 1\, 2016. \nAt the Central Baptist Church. Not-yet-members $5.00; members free.
URL:https://babcocksmithhouse.org/event/samplers-and-their-role-in-our-culture-and-folklore/
LOCATION:Central Baptist Church\, 16 Elm Street
ATTACH;FMTTYPE=image/jpeg:https://babcocksmithhouse.org/wp-content/uploads/2023/09/2016SamplerSusanJerome.jpg
END:VEVENT
BEGIN:VEVENT
DTSTART;TZID=UTC:20160918T140000
DTEND;TZID=UTC:20160918T170000
DTSTAMP:20260421T175314
CREATED:20230903T081518Z
LAST-MODIFIED:20230911T055944Z
UID:1080-1474207200-1474218000@babcocksmithhouse.org
SUMMARY:The Sinking of the U-853
DESCRIPTION:Captain Bill Palmer and Greg Pettys produced a documentary on the U-853.  This is the U-boat sunk on the last day of WW II off Block Island.  They will discuss the documentary and the book Bill has published. \nAt the Carriage House. Not-yet-members $5.00; members free.
URL:https://babcocksmithhouse.org/event/the-sinking-of-the-u-853/
LOCATION:BSHM Carriage House\, 124 Granite Street\, Westerly\, RI\, 02891\, United States
ATTACH;FMTTYPE=image/jpeg:https://babcocksmithhouse.org/wp-content/uploads/2023/09/westerly-hist-soc-logo1.jpg
END:VEVENT
BEGIN:VEVENT
DTSTART;TZID=UTC:20160911T140000
DTEND;TZID=UTC:20160911T170000
DTSTAMP:20260421T175314
CREATED:20230903T081430Z
LAST-MODIFIED:20230911T055948Z
UID:1077-1473602400-1473613200@babcocksmithhouse.org
SUMMARY:Gall Stones Not Granite
DESCRIPTION:Presented by Dr. Allen Leadbetter \nDr. Leadbetter will share his insights on the history\, anatomy\, and physiology of gall stones. He will show videos of open and laparoscopic surgery. Can you stomach them? Bring in your own gall stones for show and tell! \nAt the Carriage House. Not-yet-members $5.00; members free.
URL:https://babcocksmithhouse.org/event/gall-stones-not-granite/
LOCATION:BSHM Carriage House\, 124 Granite Street\, Westerly\, RI\, 02891\, United States
ATTACH;FMTTYPE=image/jpeg:https://babcocksmithhouse.org/wp-content/uploads/2023/09/2016Gallstones.jpg
END:VEVENT
BEGIN:VEVENT
DTSTART;TZID=UTC:20160803T190000
DTEND;TZID=UTC:20160803T190000
DTSTAMP:20260421T175314
CREATED:20230903T081226Z
LAST-MODIFIED:20230911T055952Z
UID:1074-1470250800-1470250800@babcocksmithhouse.org
SUMMARY:Bonner Monument Company--A 20th Century Company
DESCRIPTION:Presented by John B. Coduri \nJohn will share historic photos as he illustrates his talk about the Bonner Monument Company. He will also show photographs of some of the many monuments produced at the Ashaway Road shed. \nAt the Carriage House. Non-yet-members $5.00; members free.
URL:https://babcocksmithhouse.org/event/bonner-monument-company-a-20th-century-company/
LOCATION:BSHM Carriage House\, 124 Granite Street\, Westerly\, RI\, 02891\, United States
ATTACH;FMTTYPE=image/gif:https://babcocksmithhouse.org/wp-content/uploads/2023/09/BonnerCompany.gif
END:VEVENT
BEGIN:VEVENT
DTSTART;TZID=UTC:20160629T130000
DTEND;TZID=UTC:20160629T160000
DTSTAMP:20260421T175314
CREATED:20230903T081131Z
LAST-MODIFIED:20230911T055956Z
UID:1071-1467205200-1467216000@babcocksmithhouse.org
SUMMARY:Victorian Secrets: Under the Petticoat
DESCRIPTION:Presented by Patricia Perry \nJoin us for the opening event of the Babcock-Smith House Museum’s exciting upcoming exhibit of Victorian lingerie. This formal tea party in the Carriage House will feature Patricia Perry\, the popular historical interpreter (you may remember her from our Doll Teas)\, as well as the usual delicious fare prepared by the Museum’s docents. Tickets are $25 and include the tea party and preview of the exhibit in the museum house. Advance purchase is required. To reserve\, please call 401-348-8178. \nAt the Carriage House.  Tickets $25.
URL:https://babcocksmithhouse.org/event/victorian-secrets-under-the-petticoat/
LOCATION:BSHM Carriage House\, 124 Granite Street\, Westerly\, RI\, 02891\, United States
ATTACH;FMTTYPE=image/jpeg:https://babcocksmithhouse.org/wp-content/uploads/2023/09/2016-Victorian-Undergarments.jpg
END:VEVENT
BEGIN:VEVENT
DTSTART;TZID=UTC:20160612T140000
DTEND;TZID=UTC:20160612T170000
DTSTAMP:20260421T175314
CREATED:20230903T081026Z
LAST-MODIFIED:20230911T060003Z
UID:1069-1465740000-1465750800@babcocksmithhouse.org
SUMMARY:Early Westerly\, 1660-1720
DESCRIPTION:Presented by Meg Barclay \nEnglish settlement in Westerly from 1660 to 1720. \nAt the Carriage House.  Non-yet-members $5.00; members free.
URL:https://babcocksmithhouse.org/event/early-westerly-1660-1720-2/
LOCATION:BSHM Carriage House\, 124 Granite Street\, Westerly\, RI\, 02891\, United States
ATTACH;FMTTYPE=image/jpeg:https://babcocksmithhouse.org/wp-content/uploads/2023/09/MapRI.jpg
END:VEVENT
BEGIN:VEVENT
DTSTART;TZID=UTC:20160528T140000
DTEND;TZID=UTC:20160528T170000
DTSTAMP:20260421T175314
CREATED:20230903T080903Z
LAST-MODIFIED:20230911T060008Z
UID:1067-1464444000-1464454800@babcocksmithhouse.org
SUMMARY:Open House
DESCRIPTION:The Babcock-Smith House will be open for tours admission free. The Granite Museum in our Carriage House will also be open with new displays and Joshua’s Store will have wonderful handmade items and more available for purchase. Refreshments served in the Carriage House complements of our Docents. \nStop by to view our new quarry exhibit that encourages children and those who are young-at-heart to set off the detonator and see the “blast.”  And enjoy our new photo exhibit featuring photographs of Wilcox Park and granite buildings in downtown Westerly\, with close-ups of amazing details.
URL:https://babcocksmithhouse.org/event/open-house-4/
LOCATION:BSHM Carriage House\, 124 Granite Street\, Westerly\, RI\, 02891\, United States
ATTACH;FMTTYPE=image/gif:https://babcocksmithhouse.org/wp-content/uploads/2023/09/HouseLogo-reddish.gif
END:VEVENT
BEGIN:VEVENT
DTSTART;TZID=UTC:20160515T140000
DTEND;TZID=UTC:20160515T170000
DTSTAMP:20260421T175314
CREATED:20230903T080750Z
LAST-MODIFIED:20230911T060015Z
UID:1064-1463320800-1463331600@babcocksmithhouse.org
SUMMARY:A Local “History Detective”:  Who was Mary Noyes Rogers?
DESCRIPTION:Presented by Charlene Senical \nUpon the discovery in December 2003 of two 1938 Westerly Sun articles on the passing of Mary Noyes Rogers\, initial research has culminated into a 10+ year journey of undocumented Westerly and Pawcatuck history. \nThis talk will focus on the probate records of Ms. Rogers and the many discoveries made along the way including a connection with a major Yale University Art Gallery project. The talk will also highlight the amount of time and “detective” work needed for any research project. \nAt the Carriage House. Non-yet-members $5.00; members free.
URL:https://babcocksmithhouse.org/event/a-local-history-detective-who-was-mary-noyes-rogers/
LOCATION:BSHM Carriage House\, 124 Granite Street\, Westerly\, RI\, 02891\, United States
ATTACH;FMTTYPE=image/jpeg:https://babcocksmithhouse.org/wp-content/uploads/2023/09/dectective.jpg
END:VEVENT
BEGIN:VEVENT
DTSTART;TZID=UTC:20160410T140000
DTEND;TZID=UTC:20160410T170000
DTSTAMP:20260421T175314
CREATED:20230903T080649Z
LAST-MODIFIED:20230911T060019Z
UID:1062-1460296800-1460307600@babcocksmithhouse.org
SUMMARY:Two Watch Hill Families
DESCRIPTION:Presented by Jane Maxson and Cheryl Bamberg \nAt the Carriage House. Non-yet-members $5.00; members free.
URL:https://babcocksmithhouse.org/event/two-watch-hill-families/
LOCATION:BSHM Carriage House\, 124 Granite Street\, Westerly\, RI\, 02891\, United States
ATTACH;FMTTYPE=image/jpeg:https://babcocksmithhouse.org/wp-content/uploads/2023/09/westerly-hist-soc-logo1.jpg
END:VEVENT
BEGIN:VEVENT
DTSTART;TZID=UTC:20160313T140000
DTEND;TZID=UTC:20160313T170000
DTSTAMP:20260421T175314
CREATED:20230903T080556Z
LAST-MODIFIED:20230911T060023Z
UID:1060-1457877600-1457888400@babcocksmithhouse.org
SUMMARY:Saving the Memory Day
DESCRIPTION:Presented by Robert Webb of Charter Oak Scanning \nAt the Carriage House. Non-yet-members $5.00; members free.
URL:https://babcocksmithhouse.org/event/saving-the-memory-day/
LOCATION:BSHM Carriage House\, 124 Granite Street\, Westerly\, RI\, 02891\, United States
ATTACH;FMTTYPE=image/jpeg:https://babcocksmithhouse.org/wp-content/uploads/2023/09/westerly-hist-soc-logo1.jpg
END:VEVENT
BEGIN:VEVENT
DTSTART;TZID=UTC:20160306T140000
DTEND;TZID=UTC:20160306T170000
DTSTAMP:20260421T175314
CREATED:20230903T080446Z
LAST-MODIFIED:20230911T060027Z
UID:1057-1457272800-1457283600@babcocksmithhouse.org
SUMMARY:Rhode Island Railroads
DESCRIPTION:Presented by Joseph Coduri \n“Rhode Island Railroad Depots\,” recently published by Joseph Coduri\, illustrates the rich heritage which railroads played in the economic and social history of our state. Using images from his post card collection\, Joe provides the reader with a nostalgic and visual ride along Rhode Island railroads. \nAt the Carriage House. Non-yet-members $5.00; members free.
URL:https://babcocksmithhouse.org/event/rhode-island-railroads/
LOCATION:BSHM Carriage House\, 124 Granite Street\, Westerly\, RI\, 02891\, United States
ATTACH;FMTTYPE=image/jpeg:https://babcocksmithhouse.org/wp-content/uploads/2023/09/RRWesterlyRI.jpeg
END:VEVENT
BEGIN:VEVENT
DTSTART;TZID=UTC:20160221T140000
DTEND;TZID=UTC:20160221T170000
DTSTAMP:20260421T175314
CREATED:20230903T080323Z
LAST-MODIFIED:20230911T060032Z
UID:1055-1456063200-1456074000@babcocksmithhouse.org
SUMMARY:"The United Theater Project:  History\, Renovation\, and Future”
DESCRIPTION:Presented by Tony Nunes and Simon Holt\, from the United Theater \nAt the Carriage House. Non-yet-members $5.00; members free.
URL:https://babcocksmithhouse.org/event/the-united-theater-project-history-renovation-and-future/
LOCATION:BSHM Carriage House\, 124 Granite Street\, Westerly\, RI\, 02891\, United States
ATTACH;FMTTYPE=image/jpeg:https://babcocksmithhouse.org/wp-content/uploads/2023/09/westerly-hist-soc-logo1.jpg
END:VEVENT
BEGIN:VEVENT
DTSTART;TZID=UTC:20160124T140000
DTEND;TZID=UTC:20160124T170000
DTSTAMP:20260421T175314
CREATED:20230903T080117Z
LAST-MODIFIED:20230911T060035Z
UID:1053-1453644000-1453654800@babcocksmithhouse.org
SUMMARY:Westerly Historical Society Members' Potluck and Research Sharing Event
DESCRIPTION:At the Carriage House. Non-yet-members $5.00; members free.
URL:https://babcocksmithhouse.org/event/westerly-historical-society-members-potluck-and-research-sharing-event-3/
LOCATION:BSHM Carriage House\, 124 Granite Street\, Westerly\, RI\, 02891\, United States
ATTACH;FMTTYPE=image/jpeg:https://babcocksmithhouse.org/wp-content/uploads/2023/09/westerly-hist-soc-logo1.jpg
END:VEVENT
BEGIN:VEVENT
DTSTART;TZID=UTC:20160110T140000
DTEND;TZID=UTC:20160110T170000
DTSTAMP:20260421T175314
CREATED:20230903T080014Z
LAST-MODIFIED:20230911T060039Z
UID:1051-1452434400-1452445200@babcocksmithhouse.org
SUMMARY:"When Did The Civil War End?"
DESCRIPTION:Presented by Judge Frank Williams\, noted Lincoln scholar. \nAt the Carriage House. Non-yet-members $5.00; members free.
URL:https://babcocksmithhouse.org/event/when-did-the-civil-war-end/
LOCATION:BSHM Carriage House\, 124 Granite Street\, Westerly\, RI\, 02891\, United States
ATTACH;FMTTYPE=image/jpeg:https://babcocksmithhouse.org/wp-content/uploads/2023/09/frank-williams.jpg
END:VEVENT
BEGIN:VEVENT
DTSTART;TZID=UTC:20151204T080000
DTEND;TZID=UTC:20151206T170000
DTSTAMP:20260421T175314
CREATED:20230903T084604Z
LAST-MODIFIED:20231105T045349Z
UID:1146-1449216000-1449421200@babcocksmithhouse.org
SUMMARY:A Celebration of Trees and Holiday Bazaar
DESCRIPTION:Friday\, Dec 4\, 7-9 pm \nCelebration of Trees*\nJoshua’s Store and Bazaar\nEnjoy our courtyard with its holiday lighting \nSaturday\, Dec 5\, 9 am -10 pm \nBazaar: baked goods and cookies\, muffins and coffee\, crafty kitchen items\, gently-used Christmas items\, basket raffle\, holiday greens\, PBS video\, granite book\, and Joshua’s Store\nCelebration of Trees* \nSunday\, Dec 6\, 2 pm \nHoliday Concert featuring: Community Church Ringers Quartet and Tenor Michael Grillo; refreshments following the concert.\nCelebration of Trees* from 2:45 – 5 pm\nJoshua’s Store \n*Celebration of Trees: admission $10; $5 for members; free for children under 12. Sunday afternoon includes admission to both the concert and Celebration of Trees.
URL:https://babcocksmithhouse.org/event/a-celebration-of-trees-and-holiday-bazaar/
ATTACH;FMTTYPE=image/jpeg:https://babcocksmithhouse.org/wp-content/uploads/2023/09/antique-feather-tree-putz.jpg
END:VEVENT
BEGIN:VEVENT
DTSTART;TZID=UTC:20151118T080000
DTEND;TZID=UTC:20151118T170000
DTSTAMP:20260421T175314
CREATED:20230903T084520Z
LAST-MODIFIED:20230911T060043Z
UID:1143-1447833600-1447866000@babcocksmithhouse.org
SUMMARY:Chamber of Commerce After Hours
DESCRIPTION:
URL:https://babcocksmithhouse.org/event/chamber-of-commerce-after-hours/
ATTACH;FMTTYPE=image/jpeg:https://babcocksmithhouse.org/wp-content/uploads/2023/09/Chamber-of-commerce.jpg
END:VEVENT
BEGIN:VEVENT
DTSTART;TZID=UTC:20150920T140000
DTEND;TZID=UTC:20150920T170000
DTSTAMP:20260421T175314
CREATED:20230903T084421Z
LAST-MODIFIED:20230911T060046Z
UID:1140-1442757600-1442768400@babcocksmithhouse.org
SUMMARY:Westerly and Its Business (1878)
DESCRIPTION:Using an 1878 Narragansett Weekly article as his guide\, Lido Mochetti will share photos and stories of 1878 businesses and people\, including the Fat Man’s Club\, hotels\, mills\, and the granite industry. \nAt the Carriage House. Non-members $5.00; members free.
URL:https://babcocksmithhouse.org/event/westerly-and-its-business-1878/
LOCATION:BSHM Carriage House\, 124 Granite Street\, Westerly\, RI\, 02891\, United States
ATTACH;FMTTYPE=image/jpeg:https://babcocksmithhouse.org/wp-content/uploads/2023/09/CHRIST-CHURCH-WESTERLY-COPY.jpg
END:VEVENT
BEGIN:VEVENT
DTSTART;TZID=UTC:20150913T140000
DTEND;TZID=UTC:20150913T170000
DTSTAMP:20260421T175314
CREATED:20230903T084318Z
LAST-MODIFIED:20230911T060050Z
UID:1138-1442152800-1442163600@babcocksmithhouse.org
SUMMARY:Spies in Revolutionary Rhode Island
DESCRIPTION:Presented by the Westerly Historical Society \nChristian McBurney\,  http://christianmcburney.com/Historian\, Author\,publisher and editor-in-chief of The Online Review of Rhode Island History\, at www.smallstatebighistory.com. \nEspionage played a vital role during the Revolutionary War in Rhode Island\, both when the British and later the French occupied Newport and the rest of Aquidneck Island. The British and Americans each employed spies to discover the secrets\, plans and positions of their enemy.  Author Christian M. McBurney\, for the first time\, unravels the world of spies and covert operations in Rhode Island during the Revolutionary War.  \nAt the Carriage House. Non-members $5.00; members free.
URL:https://babcocksmithhouse.org/event/spies-in-revolutionary-rhode-island/
LOCATION:BSHM Carriage House\, 124 Granite Street\, Westerly\, RI\, 02891\, United States
ATTACH;FMTTYPE=image/jpeg:https://babcocksmithhouse.org/wp-content/uploads/2023/09/westerly-hist-soc-logo1.jpg
END:VEVENT
BEGIN:VEVENT
DTSTART;TZID=UTC:20150825T190000
DTEND;TZID=UTC:20150825T190000
DTSTAMP:20260421T175314
CREATED:20230903T084220Z
LAST-MODIFIED:20230911T060054Z
UID:1135-1440529200-1440529200@babcocksmithhouse.org
SUMMARY:Connecting the Threads of History Through Quilts
DESCRIPTION:Barbara Barber\, nationally known quilter\, will present a program marked with her creativity and sense of humor. \nAt the Carriage House. Non-members $2.00; members free.
URL:https://babcocksmithhouse.org/event/connecting-the-threads-of-history-through-quilts/
LOCATION:BSHM Carriage House\, 124 Granite Street\, Westerly\, RI\, 02891\, United States
ATTACH;FMTTYPE=image/jpeg:https://babcocksmithhouse.org/wp-content/uploads/2023/09/quilt-2.jpg
END:VEVENT
BEGIN:VEVENT
DTSTART;TZID=UTC:20150813T190000
DTEND;TZID=UTC:20150813T190000
DTSTAMP:20260421T175314
CREATED:20230903T084103Z
LAST-MODIFIED:20230911T060058Z
UID:1132-1439492400-1439492400@babcocksmithhouse.org
SUMMARY:Downton Abbey: Fashion and Social Change
DESCRIPTION:Susan Jerome\, textile expert from the Unversity of Rhode Island will explore the many changes that occurred throughout the time period depicted in Downton Abbey and how these changes influenced fashion. The social\, technological\, and political changes of the early twentieth century were reflected in the notable evolution of women’s and men’s clothing. This powerpoint presentation will look back at what was fashionable – real or otherwise. We will look at some of the influential designers and other persons involved in the years of the first five seasons. \nAt the Carriage House. Non-members $2.00; members free.
URL:https://babcocksmithhouse.org/event/downton-abbey-fashion-and-social-change/
LOCATION:BSHM Carriage House\, 124 Granite Street\, Westerly\, RI\, 02891\, United States
ATTACH;FMTTYPE=image/jpeg:https://babcocksmithhouse.org/wp-content/uploads/2023/09/Downton.jpg
END:VEVENT
BEGIN:VEVENT
DTSTART;TZID=UTC:20150721T190000
DTEND;TZID=UTC:20150721T190000
DTSTAMP:20260421T175314
CREATED:20230903T083802Z
LAST-MODIFIED:20230911T060101Z
UID:1129-1437505200-1437505200@babcocksmithhouse.org
SUMMARY:History Carved in Stone: Lessons from Sculpture In New York City
DESCRIPTION:Linda Chaffee\, granite historian\, will feature Westerly granite monuments in four of the five boroughs of New York City and illustrate how they document our history from our infancy through World War I. \nAt the Carriage House. Non-members $2.00; members free.
URL:https://babcocksmithhouse.org/event/history-carved-in-stone-lessons-from-sculpture-in-new-york-city/
LOCATION:BSHM Carriage House\, 124 Granite Street\, Westerly\, RI\, 02891\, United States
ATTACH;FMTTYPE=image/jpeg:https://babcocksmithhouse.org/wp-content/uploads/2023/09/dcfrench_manhattan_03.jpg
END:VEVENT
BEGIN:VEVENT
DTSTART;TZID=UTC:20150707T190000
DTEND;TZID=UTC:20150707T190000
DTSTAMP:20260421T175314
CREATED:20230903T083709Z
LAST-MODIFIED:20230911T060105Z
UID:1126-1436295600-1436295600@babcocksmithhouse.org
SUMMARY:Some Wisdom on Staying Healthy as You Grow in Years
DESCRIPTION:Phil Clark\, Professor of Gerontology at the University of Rhode Island\, will lead us in a discussion of all the ways we can stay healthy as we get older. \nAt the Carriage House. Non-members $2.00; members free.
URL:https://babcocksmithhouse.org/event/some-wisdom-on-staying-healthy-as-you-grow-in-years/
LOCATION:BSHM Carriage House\, 124 Granite Street\, Westerly\, RI\, 02891\, United States
ATTACH;FMTTYPE=image/jpeg:https://babcocksmithhouse.org/wp-content/uploads/2023/09/uri.jpg
END:VEVENT
BEGIN:VEVENT
DTSTART;TZID=UTC:20150614T140000
DTEND;TZID=UTC:20150614T170000
DTSTAMP:20260421T175314
CREATED:20230903T083537Z
LAST-MODIFIED:20230911T060109Z
UID:1123-1434290400-1434301200@babcocksmithhouse.org
SUMMARY:Two Years in China
DESCRIPTION:Elizabeth Fitzroy joined the Peace Corps when she was 57 and spent two years living in a town in Ganzu Province where she taught English in a local college. She will share her experiences living in China and interacting with the Chinese. \nAt the Carriage House. Non-members $2.00; members free.
URL:https://babcocksmithhouse.org/event/two-years-in-china/
LOCATION:BSHM Carriage House\, 124 Granite Street\, Westerly\, RI\, 02891\, United States
ATTACH;FMTTYPE=image/jpeg:https://babcocksmithhouse.org/wp-content/uploads/2023/09/Ganzu-province.jpg
END:VEVENT
BEGIN:VEVENT
DTSTART;TZID=UTC:20150523T140000
DTEND;TZID=UTC:20150523T170000
DTSTAMP:20260421T175314
CREATED:20230903T083440Z
LAST-MODIFIED:20230911T060112Z
UID:1121-1432389600-1432400400@babcocksmithhouse.org
SUMMARY:Museum Open House
DESCRIPTION:Tour the museum\, see the new home of the Westerly Historical Society\, enjoy a preview of the new Westerly Granite Exhibit and savor refreshments served by our docents. \nFree to all
URL:https://babcocksmithhouse.org/event/museum-open-house/
LOCATION:BSHM Carriage House\, 124 Granite Street\, Westerly\, RI\, 02891\, United States
ATTACH;FMTTYPE=image/gif:https://babcocksmithhouse.org/wp-content/uploads/2023/09/OpenHouse.gif
END:VEVENT
BEGIN:VEVENT
DTSTART;TZID=UTC:20150419T140000
DTEND;TZID=UTC:20150419T170000
DTSTAMP:20260421T175314
CREATED:20230903T083213Z
LAST-MODIFIED:20230911T060122Z
UID:1118-1429452000-1429462800@babcocksmithhouse.org
SUMMARY:The History of the Watch Hill Lighthouse
DESCRIPTION:Ann Snowden Johnson\, President of the Watch Hill Lighthouse Keepers Assoxiation (WHLKA)\, will present a secriptive history of the first Watch Hill lighthouse built in 1808 through current projects factin the association. \nAt the Carriage House
URL:https://babcocksmithhouse.org/event/the-history-of-the-watch-hill-lighthouse/
LOCATION:BSHM Carriage House\, 124 Granite Street\, Westerly\, RI\, 02891\, United States
ATTACH;FMTTYPE=image/jpeg:https://babcocksmithhouse.org/wp-content/uploads/2023/09/WHLighthouseSM.jpg
END:VEVENT
BEGIN:VEVENT
DTSTART;TZID=UTC:20150418T130000
DTEND;TZID=UTC:20150418T170000
DTSTAMP:20260421T175314
CREATED:20230903T083123Z
LAST-MODIFIED:20231105T045558Z
UID:1115-1429362000-1429376400@babcocksmithhouse.org
SUMMARY:Tools and Machinery that Created the Granite Industry
DESCRIPTION:Paul Wood\, author and expert in historic tools\, will trace the changes in granite industry technology. \nAt the Carriage House. Non-members $2.00; members free.
URL:https://babcocksmithhouse.org/event/tools-and-machinery-that-created-the-granite-industry/
LOCATION:BSHM Carriage House\, 124 Granite Street\, Westerly\, RI\, 02891\, United States
ATTACH;FMTTYPE=image/jpeg:https://babcocksmithhouse.org/wp-content/uploads/2023/09/exhibit-wooden-horse-2.jpg
END:VEVENT
END:VCALENDAR