BEGIN:VCALENDAR
VERSION:2.0
PRODID:-//Babcock-Smith House Museum - ECPv6.15.20//NONSGML v1.0//EN
CALSCALE:GREGORIAN
METHOD:PUBLISH
X-WR-CALNAME:Babcock-Smith House Museum
X-ORIGINAL-URL:https://babcocksmithhouse.org
X-WR-CALDESC:Events for Babcock-Smith House Museum
REFRESH-INTERVAL;VALUE=DURATION:PT1H
X-Robots-Tag:noindex
X-PUBLISHED-TTL:PT1H
BEGIN:VTIMEZONE
TZID:UTC
BEGIN:STANDARD
TZOFFSETFROM:+0000
TZOFFSETTO:+0000
TZNAME:UTC
DTSTART:20160101T000000
END:STANDARD
END:VTIMEZONE
BEGIN:VEVENT
DTSTART;TZID=UTC:20200216T140000
DTEND;TZID=UTC:20200216T170000
DTSTAMP:20260421T181614
CREATED:20230903T063952Z
LAST-MODIFIED:20230911T055614Z
UID:903-1581861600-1581872400@babcocksmithhouse.org
SUMMARY:Lincoln's Melancholia
DESCRIPTION:Presented by Judge Frank Williams\, local Lincoln scholar. \nJudge Williams continues his discussion of our sixteenth president\, Abraham Lincoln. \nAt the Carriage House.Not-yet members $5; free for members.
URL:https://babcocksmithhouse.org/event/lincolns-melancholia/
LOCATION:BSHM Carriage House\, 124 Granite Street\, Westerly\, RI\, 02891\, United States
ATTACH;FMTTYPE=image/jpeg:https://babcocksmithhouse.org/wp-content/uploads/2023/09/frank-williams.jpg
END:VEVENT
BEGIN:VEVENT
DTSTART;TZID=UTC:20191207T090000
DTEND;TZID=UTC:20191207T130000
DTSTAMP:20260421T181614
CREATED:20230903T072403Z
LAST-MODIFIED:20230911T055618Z
UID:983-1575709200-1575723600@babcocksmithhouse.org
SUMMARY:Holiday Boutique
DESCRIPTION:Join us for a holiday marketplace of cookie platters\, assorted baked goods\, handmade decorative greens\, artisinal soaps\, hearty soups to go…and much\, much more!  Place a bid on one of many exquisite raffle baskets and remember to stop in at Joshuas’s Store to see what’s new.\nAt the Carriage House.
URL:https://babcocksmithhouse.org/event/holiday-boutique-2/
LOCATION:BSHM Carriage House\, 124 Granite Street\, Westerly\, RI\, 02891\, United States
ATTACH;FMTTYPE=image/jpeg:https://babcocksmithhouse.org/wp-content/uploads/2023/09/cookies.jpg
END:VEVENT
BEGIN:VEVENT
DTSTART;TZID=UTC:20191201T140000
DTEND;TZID=UTC:20191201T170000
DTSTAMP:20260421T181614
CREATED:20230903T072256Z
LAST-MODIFIED:20230911T055621Z
UID:980-1575208800-1575219600@babcocksmithhouse.org
SUMMARY:Premier of Babcock/Franklin Video
DESCRIPTION:Presented by Betty-Jo Cugini and Jim Karpechik\nSee it here first! We are premiering another outstanding documentary of our own Joshua Babcock and his friend Benjamin Franklin. Written by Betty-Jo Cugini and “starring” Ed Fazio and Tony Smith\, all trustees of the Museum\, this film is the result of much research and has been wonderfully filmed and edited by Jim Karpechik. \nAt the Carriage House.  Free to all.
URL:https://babcocksmithhouse.org/event/premier-of-babcock-franklin-video/
LOCATION:BSHM Carriage House\, 124 Granite Street\, Westerly\, RI\, 02891\, United States
ATTACH;FMTTYPE=image/png:https://babcocksmithhouse.org/wp-content/uploads/2023/09/2019BabcockAndFranklin.png
END:VEVENT
BEGIN:VEVENT
DTSTART;TZID=UTC:20191103T140000
DTEND;TZID=UTC:20191103T170000
DTSTAMP:20260421T181614
CREATED:20230903T072126Z
LAST-MODIFIED:20230911T055625Z
UID:977-1572789600-1572800400@babcocksmithhouse.org
SUMMARY:The DAR and Westerly\, Rhode Island
DESCRIPTION:Presented by Jackie Smith and Sandra Berman \nLearn the significance of the Daughters of the American Revolution and the empowerment that it gave women to make a difference in their communities over the past 125 years; specifically\, the effects on Westerly and how Westerly members of the organization made an impact nationally and globally.  \nAt the Carriage House.   Free to all.
URL:https://babcocksmithhouse.org/event/the-dar-and-westerly-rhode-island/
LOCATION:BSHM Carriage House\, 124 Granite Street\, Westerly\, RI\, 02891\, United States
ATTACH;FMTTYPE=image/jpeg:https://babcocksmithhouse.org/wp-content/uploads/2023/09/2019dar.jpg
END:VEVENT
BEGIN:VEVENT
DTSTART;TZID=UTC:20191013T140000
DTEND;TZID=UTC:20191013T170000
DTSTAMP:20260421T181614
CREATED:20230903T072004Z
LAST-MODIFIED:20230911T055629Z
UID:974-1570975200-1570986000@babcocksmithhouse.org
SUMMARY:Monument Hunters: A little travel\, a little history\, a little mystery.
DESCRIPTION:Presented by John and Brenda Linton \nSince 2009\, John and Brenda Linton have been traveling the United States authenticating the monument orders from The Smith Granite Company records. Using their photographs\, they will share their technique\, along with specific locations and personal stories about the folks who bought the granite stones. \nAt the Carriage House.    Free to all.
URL:https://babcocksmithhouse.org/event/monument-hunters-a-little-travel-a-little-history-a-little-mystery/
LOCATION:BSHM Carriage House\, 124 Granite Street\, Westerly\, RI\, 02891\, United States
ATTACH;FMTTYPE=image/jpeg:https://babcocksmithhouse.org/wp-content/uploads/2023/09/2019MonumentHunters.jpg
END:VEVENT
BEGIN:VEVENT
DTSTART;TZID=UTC:20190913T140000
DTEND;TZID=UTC:20190913T170000
DTSTAMP:20260421T181614
CREATED:20230903T071917Z
LAST-MODIFIED:20230911T055633Z
UID:971-1568383200-1568394000@babcocksmithhouse.org
SUMMARY:Post Office Mural Story
DESCRIPTION:Presented by Ellen Madison \nOnce there was a WPA granite mural planned for the Westerly Post Office. Whatever happened to it? \nAt the Carriage House.    Free to all.
URL:https://babcocksmithhouse.org/event/post-office-mural-story/
LOCATION:BSHM Carriage House\, 124 Granite Street\, Westerly\, RI\, 02891\, United States
ATTACH;FMTTYPE=image/jpeg:https://babcocksmithhouse.org/wp-content/uploads/2023/09/2019WesterlyPostOffice.jpg
END:VEVENT
BEGIN:VEVENT
DTSTART;TZID=UTC:20190805T183000
DTEND;TZID=UTC:20190805T183000
DTSTAMP:20260421T181614
CREATED:20230903T071821Z
LAST-MODIFIED:20230911T055636Z
UID:969-1565029800-1565029800@babcocksmithhouse.org
SUMMARY:Westerly Notables in Local Cemeteries
DESCRIPTION:Presented by Babcock-Smith House Volunteers \nSince this is Westerly’s 350th birthday\, we are celebrating the lives of some men and women who have made notable contributions to our history. Walking through the various cemeteries would take forever\, so come hear about these men and women\, see their monuments\, and then take your own tour. Please note that this a repeat of the program offered in June. \nAt the Carriage House. Free to all.
URL:https://babcocksmithhouse.org/event/westerly-notables-in-local-cemeteries/
LOCATION:BSHM Carriage House\, 124 Granite Street\, Westerly\, RI\, 02891\, United States
ATTACH;FMTTYPE=image/jpeg:https://babcocksmithhouse.org/wp-content/uploads/2023/09/2017Wilcox-1-69-2MED.jpg
END:VEVENT
BEGIN:VEVENT
DTSTART;TZID=UTC:20190708T183000
DTEND;TZID=UTC:20190708T183000
DTSTAMP:20260421T181615
CREATED:20230903T071726Z
LAST-MODIFIED:20230911T055640Z
UID:966-1562610600-1562610600@babcocksmithhouse.org
SUMMARY:Westerly Park/Downtown Tour
DESCRIPTION:Presented by Babcock-Smith House Museum volunteers \nJoin us for a reprise of our popular downtown tour of Westerly granite buildings\, monuments and architectural features. This year we will be adding elements found in Wilcox Park.\nMeet on the esplanade in front of the Columbus statue in Wilcox Park.  Free to all.
URL:https://babcocksmithhouse.org/event/westerly-park-downtown-tour/
LOCATION:BSHM Carriage House\, 124 Granite Street\, Westerly\, RI\, 02891\, United States
ATTACH;FMTTYPE=image/jpeg:https://babcocksmithhouse.org/wp-content/uploads/2023/09/2017WomenOfWesterly.jpg
END:VEVENT
BEGIN:VEVENT
DTSTART;TZID=UTC:20190623T140000
DTEND;TZID=UTC:20190623T170000
DTSTAMP:20260421T181615
CREATED:20230903T071535Z
LAST-MODIFIED:20230911T055644Z
UID:963-1561298400-1561309200@babcocksmithhouse.org
SUMMARY:Westerly Notables in Local Cemeteries
DESCRIPTION:Presented by Babcock-Smith House volunteers \nSince this is Westerly’s 350th birthday\, we are celebrating the lives of some men and women who have made notable contributions to our history. Walking through the various cemeteries would take forever\, so come hear about these men and women\, see their monuments\, and then take your own tour. \nAt the Carriage House. Free to all.
URL:https://babcocksmithhouse.org/event/westerly-notables-in-local-cemeteries-2/
LOCATION:BSHM Carriage House\, 124 Granite Street\, Westerly\, RI\, 02891\, United States
ATTACH;FMTTYPE=image/jpeg:https://babcocksmithhouse.org/wp-content/uploads/2023/09/2017Wilcox-1-69-2MED.jpg
END:VEVENT
BEGIN:VEVENT
DTSTART;TZID=UTC:20190609T130000
DTEND;TZID=UTC:20190609T140000
DTSTAMP:20260421T181615
CREATED:20230903T071328Z
LAST-MODIFIED:20230911T055647Z
UID:960-1560085200-1560088800@babcocksmithhouse.org
SUMMARY:Westerly 350: Pokemon Go Historical Walking Tour of Westerly
DESCRIPTION:Join us for this multi-generational walking tour that brings the past 350 years alive through the mobile game of Pokemon Go’s local pokestops and gyms. Enjoy the stories of some of Westerly’s monuments\, historical markers and more! Pokemon Go utilizes real-world locations of cultural and historical significance as ingame points-of-interest.  Be prepared to be surprised by this enjoyable tour! Use Pokemon Go on your cell phone or look on with a friend. \nMeet at Wilcox Park Gazebo \,     Free to all.
URL:https://babcocksmithhouse.org/event/westerly-350-pokemon-go-historical-walking-tour-of-westerly/
LOCATION:Wilcox Park Gazebo
ATTACH;FMTTYPE=image/png:https://babcocksmithhouse.org/wp-content/uploads/2023/09/2019Westerly350Logo.png
END:VEVENT
BEGIN:VEVENT
DTSTART;TZID=UTC:20190525T140000
DTEND;TZID=UTC:20190525T170000
DTSTAMP:20260421T181615
CREATED:20230903T071200Z
LAST-MODIFIED:20230911T055652Z
UID:957-1558792800-1558803600@babcocksmithhouse.org
SUMMARY:Richard Comolli\, Master Granite Carver
DESCRIPTION:Presented by John Coduri \nLearn how Richard Comolli continued the legacy of the Westerly Granite industry during the last half of the 20th Century. \nAt the Carriage House.  Free to all.
URL:https://babcocksmithhouse.org/event/richard-comolli-master-granite-carver/
LOCATION:BSHM Carriage House\, 124 Granite Street\, Westerly\, RI\, 02891\, United States
ATTACH;FMTTYPE=image/jpeg:https://babcocksmithhouse.org/wp-content/uploads/2023/09/2019RichardComolli.jpg
END:VEVENT
BEGIN:VEVENT
DTSTART;TZID=UTC:20190414T140000
DTEND;TZID=UTC:20190414T170000
DTSTAMP:20260421T181615
CREATED:20230903T071045Z
LAST-MODIFIED:20230911T055656Z
UID:954-1555250400-1555261200@babcocksmithhouse.org
SUMMARY:A Postcard View of Westerly
DESCRIPTION:Presented by Joseph Coduri \nEnjoy this special view of Westerly as seen through its turn-of-the-century postcards. \nAt the Carriage House.   Free to all.
URL:https://babcocksmithhouse.org/event/a-postcard-view-of-westerly/
LOCATION:BSHM Carriage House\, 124 Granite Street\, Westerly\, RI\, 02891\, United States
ATTACH;FMTTYPE=image/jpeg:https://babcocksmithhouse.org/wp-content/uploads/2023/09/2018WesterlyPostcards.jpeg
END:VEVENT
BEGIN:VEVENT
DTSTART;TZID=UTC:20190331T140000
DTEND;TZID=UTC:20190331T170000
DTSTAMP:20260421T181615
CREATED:20230903T070952Z
LAST-MODIFIED:20230911T055700Z
UID:952-1554040800-1554051600@babcocksmithhouse.org
SUMMARY:125 Years of Westerly Library and Wilcox Park
DESCRIPTION:Presented by the authors of the book \nAt the Carriage House.    Free to all.
URL:https://babcocksmithhouse.org/event/125-years-of-westerly-library-and-wilcox-park/
LOCATION:BSHM Carriage House\, 124 Granite Street\, Westerly\, RI\, 02891\, United States
ATTACH;FMTTYPE=image/jpeg:https://babcocksmithhouse.org/wp-content/uploads/2023/09/westerly-hist-soc-logo1.jpg
END:VEVENT
BEGIN:VEVENT
DTSTART;TZID=UTC:20190324T140000
DTEND;TZID=UTC:20190324T170000
DTSTAMP:20260421T181615
CREATED:20230903T070704Z
LAST-MODIFIED:20230911T055714Z
UID:949-1553436000-1553446800@babcocksmithhouse.org
SUMMARY:Smith Widows: Women with the Strength of Stone
DESCRIPTION:Presented by Linda Smith Chaffee \nLearn how three “Orlando Widows” met the challenges of raising family\, operating a business\, and managing a home. \nAt the Carriage House.    Free to all.
URL:https://babcocksmithhouse.org/event/smith-widows-women-with-the-strength-of-stone/
LOCATION:BSHM Carriage House\, 124 Granite Street\, Westerly\, RI\, 02891\, United States
ATTACH;FMTTYPE=image/jpeg:https://babcocksmithhouse.org/wp-content/uploads/2023/09/2019Widow.jpg
END:VEVENT
BEGIN:VEVENT
DTSTART;TZID=UTC:20190224T140000
DTEND;TZID=UTC:20190224T170000
DTSTAMP:20260421T181615
CREATED:20230903T070536Z
LAST-MODIFIED:20230911T055718Z
UID:947-1551016800-1551027600@babcocksmithhouse.org
SUMMARY:Blue and White: The History of Basketball at Westerly High School
DESCRIPTION:Presented by Zachary Garceau \nAt the Carriage House.    Free to all.
URL:https://babcocksmithhouse.org/event/blue-and-white-the-history-of-basketball-at-westerly-high-school/
LOCATION:BSHM Carriage House\, 124 Granite Street\, Westerly\, RI\, 02891\, United States
ATTACH;FMTTYPE=image/jpeg:https://babcocksmithhouse.org/wp-content/uploads/2023/09/westerly-hist-soc-logo1.jpg
END:VEVENT
BEGIN:VEVENT
DTSTART;TZID=UTC:20190219T183000
DTEND;TZID=UTC:20190219T183000
DTSTAMP:20260421T181615
CREATED:20230903T070259Z
LAST-MODIFIED:20230911T055722Z
UID:944-1550601000-1550601000@babcocksmithhouse.org
SUMMARY:Early Westerly 1660-1720
DESCRIPTION:Presented by Meg Barclay \nMeg Barclay\, a direct descendant of Tobias Saunders who was an incorporator of the Town of Westerly\, will reprise her earlier well-received program on the early history of Westerly. \nAt the Westerly LIbrary Auditorium.    Free to all.
URL:https://babcocksmithhouse.org/event/early-westerly-1660-1720/
LOCATION:Westerly LIbrary Art Galler
ATTACH;FMTTYPE=image/jpeg:https://babcocksmithhouse.org/wp-content/uploads/2023/09/MapRI.jpg
END:VEVENT
BEGIN:VEVENT
DTSTART;TZID=UTC:20190210T140000
DTEND;TZID=UTC:20190210T170000
DTSTAMP:20260421T181615
CREATED:20230903T070151Z
LAST-MODIFIED:20230911T055728Z
UID:942-1549807200-1549818000@babcocksmithhouse.org
SUMMARY:Abraham Lincoln
DESCRIPTION:Presented by Judge Frank Williams\, local Lincoln scholar. \nJudge Williams presents another fascinating program in his series on Abraham Lincoln. \nAt the Carriage House.  Free to all.
URL:https://babcocksmithhouse.org/event/abraham-lincoln/
LOCATION:BSHM Carriage House\, 124 Granite Street\, Westerly\, RI\, 02891\, United States
ATTACH;FMTTYPE=image/jpeg:https://babcocksmithhouse.org/wp-content/uploads/2023/09/frank-williams.jpg
END:VEVENT
BEGIN:VEVENT
DTSTART;TZID=UTC:20190206T180000
DTEND;TZID=UTC:20190206T180000
DTSTAMP:20260421T181615
CREATED:20230903T070049Z
LAST-MODIFIED:20230911T055731Z
UID:938-1549476000-1549476000@babcocksmithhouse.org
SUMMARY:Gallery Opening--Our Story: 350 Years
DESCRIPTION:Come see Westerly History illustrated by highlights from the collections of the Babcock-Smith House Museum and the Westerly Historical Society. The exhibit will run from February 6 through March 28 in the Westerly Library Gallery during regular library hours.  Join us for the Grand Opening\, preview the Babcock-Franklin documentary\, and share in the refreshments\nAt the Westerly LIbrary Art Gallery.  Free to all.
URL:https://babcocksmithhouse.org/event/gallery-opening-our-story-350-years/
LOCATION:Westerly LIbrary Art Galler
ATTACH;FMTTYPE=image/png:https://babcocksmithhouse.org/wp-content/uploads/2023/09/2019Westerly350Logo.png
END:VEVENT
BEGIN:VEVENT
DTSTART;TZID=UTC:20181208T090000
DTEND;TZID=UTC:20181208T130000
DTSTAMP:20260421T181615
CREATED:20230903T073916Z
LAST-MODIFIED:20230911T055736Z
UID:1008-1544259600-1544274000@babcocksmithhouse.org
SUMMARY:Holiday Boutique
DESCRIPTION:Join us for a holiday marketplace of cookie platters\, assorted baked goods\, handmade decorative greens\, artisan-crafted soaps\, hearty soups to go…and much\, much more!  Place a bid on one of many exquisite raffle baskets and remember to stop in at Joshuas’s Store to see what’s new.\nAt the Carriage House.
URL:https://babcocksmithhouse.org/event/holiday-boutique-3/
LOCATION:BSHM Carriage House\, 124 Granite Street\, Westerly\, RI\, 02891\, United States
ATTACH;FMTTYPE=image/gif:https://babcocksmithhouse.org/wp-content/uploads/2023/09/2018HolidayBoutique.gif
END:VEVENT
BEGIN:VEVENT
DTSTART;TZID=UTC:20180923T140000
DTEND;TZID=UTC:20180923T170000
DTSTAMP:20260421T181615
CREATED:20230903T073820Z
LAST-MODIFIED:20230911T055739Z
UID:1005-1537711200-1537722000@babcocksmithhouse.org
SUMMARY:"Outback\, or is this trip necessary?"
DESCRIPTION:Presented by Virginia Williams \nWilliams will present her entertaining program on the history and lore of the outhouse. \nAt the Carriage House.  Not-yet members free; members free.
URL:https://babcocksmithhouse.org/event/outback-or-is-this-trip-necessary/
LOCATION:BSHM Carriage House\, 124 Granite Street\, Westerly\, RI\, 02891\, United States
ATTACH;FMTTYPE=image/jpeg:https://babcocksmithhouse.org/wp-content/uploads/2023/09/2018Outback.jpg
END:VEVENT
BEGIN:VEVENT
DTSTART;TZID=UTC:20180813T180000
DTEND;TZID=UTC:20180813T180000
DTSTAMP:20260421T181615
CREATED:20230903T073716Z
LAST-MODIFIED:20230911T055747Z
UID:1003-1534183200-1534183200@babcocksmithhouse.org
SUMMARY:An Evening of Outdoor Art:  A Stroll Down Cypress and Cedar Lanes
DESCRIPTION:Join us at River Bend Cemetery for a walking tour of various monuments near each other along two lanes.  We will meet near the office and you may park there or on one of the upper streets\, but please not on Cypress or Cedar. \nNot-yet members $5.00: members free.
URL:https://babcocksmithhouse.org/event/an-evening-of-outdoor-art-a-stroll-down-cypress-and-cedar-lanes/
LOCATION:River Bend Cemetery\, United States
ATTACH;FMTTYPE=image/jpeg:https://babcocksmithhouse.org/wp-content/uploads/2023/09/2018RiverBendCemetery.jpg
END:VEVENT
BEGIN:VEVENT
DTSTART;TZID=UTC:20180526T140000
DTEND;TZID=UTC:20180526T170000
DTSTAMP:20260421T181615
CREATED:20230903T073605Z
LAST-MODIFIED:20230911T055752Z
UID:1000-1527343200-1527354000@babcocksmithhouse.org
SUMMARY:A Gettysburg Mystery: The monument to the 149th NY Infantry
DESCRIPTION:Presented by: Tom Foley \nJuly 2nd\, 1863: a lone brigade faces overwhelming odds and saves the Union Army at Gettysburg\, only to be forgotten by history. Hear the story of their heroic stand and why the Smith Granite Co. monument to the 149th NY has gone missing. \nAs part of the Open House\, free tours will be given of the Babcock Smith House. \nAt the Carriage House.  Program is free to all.
URL:https://babcocksmithhouse.org/event/a-gettysburg-mystery-the-monument-to-the-149th-ny-infantry/
LOCATION:BSHM Carriage House\, 124 Granite Street\, Westerly\, RI\, 02891\, United States
ATTACH;FMTTYPE=image/jpeg:https://babcocksmithhouse.org/wp-content/uploads/2023/09/2018-149thNY.jpg
END:VEVENT
BEGIN:VEVENT
DTSTART;TZID=UTC:20180415T140000
DTEND;TZID=UTC:20180415T170000
DTSTAMP:20260421T181615
CREATED:20230903T073414Z
LAST-MODIFIED:20230911T055757Z
UID:998-1523800800-1523811600@babcocksmithhouse.org
SUMMARY:Westerly\, Pawcatuck & the River that Changed the Landscape
DESCRIPTION:Presented by Rebecca Nolan \nAt the Carriage House.    Not-yet members $5.00; members free.
URL:https://babcocksmithhouse.org/event/westerly-pawcatuck-the-river-that-changed-the-landscape/
LOCATION:BSHM Carriage House\, 124 Granite Street\, Westerly\, RI\, 02891\, United States
ATTACH;FMTTYPE=image/jpeg:https://babcocksmithhouse.org/wp-content/uploads/2023/09/westerly-hist-soc-logo1.jpg
END:VEVENT
BEGIN:VEVENT
DTSTART;TZID=UTC:20180408T140000
DTEND;TZID=UTC:20180408T170000
DTSTAMP:20260421T181615
CREATED:20230903T073246Z
LAST-MODIFIED:20230911T055800Z
UID:995-1523196000-1523206800@babcocksmithhouse.org
SUMMARY:Buzzi Memorials: Fine Carvings on Public Buildings and Memorials
DESCRIPTION:Presented by John Coduri \nJohn Coduri will explore the contributions of this small Pawcatuck company which specialized in fine carvings on public buildings as well as gravestone work.  Founded in 1933 by carver Angelo Buzzi and continued by his son Harold\, Buzzi Memorials is now owned by Richard Brooks. \nAt the Carriage House.    Not-yet members $5.00; members free.
URL:https://babcocksmithhouse.org/event/buzzi-memorials-fine-carvings-on-public-buildings-and-memorials/
LOCATION:BSHM Carriage House\, 124 Granite Street\, Westerly\, RI\, 02891\, United States
ATTACH;FMTTYPE=image/gif:https://babcocksmithhouse.org/wp-content/uploads/2023/09/HouseLogo-reddish.gif
END:VEVENT
BEGIN:VEVENT
DTSTART;TZID=UTC:20180325T140000
DTEND;TZID=UTC:20180325T170000
DTSTAMP:20260421T181615
CREATED:20230903T073148Z
LAST-MODIFIED:20230911T055804Z
UID:993-1521986400-1521997200@babcocksmithhouse.org
SUMMARY:Little Known Facts about the Babcock Smith House; with tours and lecture
DESCRIPTION:Presented by Ed Fazio and Tony Smith \nEd Fazio and Tony Smith will show photos of seldom-seen features\, such as the Roman archway in the basement\, and share new stories about the history of the museum house. \nAt the Carriage House.    Not-yet members $5.00; members free.
URL:https://babcocksmithhouse.org/event/little-known-facts-about-the-babcock-smith-house-with-tours-and-lecture/
LOCATION:BSHM Carriage House\, 124 Granite Street\, Westerly\, RI\, 02891\, United States
ATTACH;FMTTYPE=image/jpeg:https://babcocksmithhouse.org/wp-content/uploads/2023/09/westerly-hist-soc-logo1.jpg
END:VEVENT
BEGIN:VEVENT
DTSTART;TZID=UTC:20180218T140000
DTEND;TZID=UTC:20180218T170000
DTSTAMP:20260421T181615
CREATED:20230903T073007Z
LAST-MODIFIED:20230911T055808Z
UID:991-1518962400-1518973200@babcocksmithhouse.org
SUMMARY:The Story of an Old Mill:  The Pawcatuck Thread Mill
DESCRIPTION:Presented by Pamela Scott \nOnce the Pawcatuck River was dotted with textile mills\, now mostly inactive.  Pamela Scott will share the history of one of those mills. \nAt the Carriage House.    Not-yet members $5.00; members free.
URL:https://babcocksmithhouse.org/event/the-story-of-an-old-mill-the-pawcatuck-thread-mill/
LOCATION:BSHM Carriage House\, 124 Granite Street\, Westerly\, RI\, 02891\, United States
ATTACH;FMTTYPE=image/jpeg:https://babcocksmithhouse.org/wp-content/uploads/2023/09/westerly-hist-soc-logo1.jpg
END:VEVENT
BEGIN:VEVENT
DTSTART;TZID=UTC:20180211T140000
DTEND;TZID=UTC:20180211T170000
DTSTAMP:20260421T181615
CREATED:20230903T072914Z
LAST-MODIFIED:20230911T055812Z
UID:989-1518357600-1518368400@babcocksmithhouse.org
SUMMARY:Rhode Island Towns and Villages: a Postcard View
DESCRIPTION:Presented by Joseph Coduri \n“Rhode Island Towns and Villages: a postcard view\,” recently published by Joseph Coduri\, illustrates the rich heritage of the small towns and villages of our state. Using images from his post card collection\, Joe provides the reader with a nostalgic trip back in time. \nAt the Carriage House.    Not-yet members $5.00; members free.
URL:https://babcocksmithhouse.org/event/rhode-island-towns-and-villages-a-postcard-view/
LOCATION:BSHM Carriage House\, 124 Granite Street\, Westerly\, RI\, 02891\, United States
ATTACH;FMTTYPE=image/jpeg:https://babcocksmithhouse.org/wp-content/uploads/2023/09/2018WesterlyPostcards.jpeg
END:VEVENT
BEGIN:VEVENT
DTSTART;TZID=UTC:20180128T140000
DTEND;TZID=UTC:20180128T170000
DTSTAMP:20260421T181615
CREATED:20230903T072805Z
LAST-MODIFIED:20230911T055815Z
UID:987-1517148000-1517158800@babcocksmithhouse.org
SUMMARY:Abraham Lincoln: With Charity to Some
DESCRIPTION:Presented by Judge Frank Williams\, local Lincoln scholar. \nJudge Williams will explore pardons during and after the Civil War. \nAt the Carriage House.    Not-yet members $5.00; members free.
URL:https://babcocksmithhouse.org/event/abraham-lincoln-with-charity-to-some/
LOCATION:BSHM Carriage House\, 124 Granite Street\, Westerly\, RI\, 02891\, United States
ATTACH;FMTTYPE=image/jpeg:https://babcocksmithhouse.org/wp-content/uploads/2023/09/frank-williams.jpg
END:VEVENT
BEGIN:VEVENT
DTSTART;TZID=UTC:20180114T140000
DTEND;TZID=UTC:20180114T170000
DTSTAMP:20260421T181615
CREATED:20230903T072507Z
LAST-MODIFIED:20231105T044245Z
UID:985-1515938400-1515949200@babcocksmithhouse.org
SUMMARY:Westerly Historical Society Members' Potluck and Research Sharing Event
DESCRIPTION:At the Carriage House. Non-yet-members $5.00; members free.
URL:https://babcocksmithhouse.org/event/westerly-historical-society-members-potluck-and-research-sharing-event/
LOCATION:BSHM Carriage House\, 124 Granite Street\, Westerly\, RI\, 02891\, United States
ATTACH;FMTTYPE=image/jpeg:https://babcocksmithhouse.org/wp-content/uploads/2023/09/westerly-hist-soc-logo1.jpg
END:VEVENT
BEGIN:VEVENT
DTSTART;TZID=UTC:20171202T100000
DTEND;TZID=UTC:20171202T140000
DTSTAMP:20260421T181615
CREATED:20230903T075812Z
LAST-MODIFIED:20230911T055819Z
UID:1045-1512208800-1512223200@babcocksmithhouse.org
SUMMARY:Holiday Open House
DESCRIPTION:The 1734 mansion house\, decorated for the holiday\, and the Westerly Granite Museum will be open to the public at no charge.  Free refreshments will be available.  Fresh holiday sprays and cookie platters will be offered for sale\, and the museum store is stocked with handmade holiday items.  There will also be a raffle of holiday baskets and local merchant gift certificates.
URL:https://babcocksmithhouse.org/event/holiday-open-house/
LOCATION:RI
ATTACH;FMTTYPE=image/jpeg:https://babcocksmithhouse.org/wp-content/uploads/2023/09/antique-feather-tree-putz.jpg
END:VEVENT
END:VCALENDAR