BEGIN:VCALENDAR
VERSION:2.0
PRODID:-//Babcock-Smith House Museum - ECPv6.15.20//NONSGML v1.0//EN
CALSCALE:GREGORIAN
METHOD:PUBLISH
X-ORIGINAL-URL:https://babcocksmithhouse.org
X-WR-CALDESC:Events for Babcock-Smith House Museum
REFRESH-INTERVAL;VALUE=DURATION:PT1H
X-Robots-Tag:noindex
X-PUBLISHED-TTL:PT1H
BEGIN:VTIMEZONE
TZID:UTC
BEGIN:STANDARD
TZOFFSETFROM:+0000
TZOFFSETTO:+0000
TZNAME:UTC
DTSTART:20190101T000000
END:STANDARD
END:VTIMEZONE
BEGIN:VEVENT
DTSTART;TZID=UTC:20230423T140000
DTEND;TZID=UTC:20230903T170000
DTSTAMP:20260421T102714
CREATED:20230903T054435Z
LAST-MODIFIED:20230911T055254Z
UID:834-1682258400-1693760400@babcocksmithhouse.org
SUMMARY:History Revealed by Monuments Between 1875 and 1920
DESCRIPTION:Presented by Museum Volunteers \nOnce again\, we are participating in Historical Cemeteries Month sponsored statewide by Rhode Island Historical Preservation and Heritage Commission. In collaboration with the River Bend Cemetery\, we will be conducting a walking tour of a small section of the cemetery. Our goal is three-fold.  By examining monuments\, we can learn about family genealogy\, significant events of the time period and artistic trends of the era.  \nAt River Bend Cemetery.\nDonations accepted.
URL:https://babcocksmithhouse.org/event/history-revealed-by-monuments-between-1875-and-1920/
LOCATION:River Bend Cemetery\, United States
ATTACH;FMTTYPE=image/jpeg:https://babcocksmithhouse.org/wp-content/uploads/2023/09/2018RiverBendCemetery.jpg
END:VEVENT
BEGIN:VEVENT
DTSTART;TZID=UTC:20230416T140000
DTEND;TZID=UTC:20230416T170000
DTSTAMP:20260421T102714
CREATED:20230903T054136Z
LAST-MODIFIED:20240228T214433Z
UID:831-1681653600-1681664400@babcocksmithhouse.org
SUMMARY:Why Some Monuments Can’t Seem to Stay in One Place
DESCRIPTION:Presented by John Linton \nThis program will focus on the closing of cemeteries in San Francisco and the destruction of monuments there\, and the movement of the Horace Greeley statue in NYC\, the John Mason statue in Connecticut\, the Stonewall Jackson statue in VA\, and the Soldiers and Sailors Civil War Monument in Providence. \nAt the Carriage House.\nFree to members. $5.00 for not-yet members.
URL:https://babcocksmithhouse.org/event/why-some-monuments-cant-seem-to-stay-in-one-place/
LOCATION:BSHM Carriage House\, 124 Granite Street\, Westerly\, RI\, 02891\, United States
ATTACH;FMTTYPE=image/jpeg:https://babcocksmithhouse.org/wp-content/uploads/2023/09/2023MonumentsMoving-e1709156662952.jpeg
END:VEVENT
BEGIN:VEVENT
DTSTART;TZID=UTC:20230325T140000
DTEND;TZID=UTC:20230325T170000
DTSTAMP:20260421T102714
CREATED:20230903T054009Z
LAST-MODIFIED:20230911T055307Z
UID:828-1679752800-1679763600@babcocksmithhouse.org
SUMMARY:Did you read the news? Newspaper Stories of the Westerly Granite Industry
DESCRIPTION:Presented by Hugh Barton Sunday\, \nIn his research\, Hugh has discovered some fascinating local granite stories which he will share with us. \nAt the Carriage House.\nFree to members. $5.00 for not-yet members.
URL:https://babcocksmithhouse.org/event/did-you-read-the-news-newspaper-stories-of-the-westerly-granite-industry/
LOCATION:BSHM Carriage House\, 124 Granite Street\, Westerly\, RI\, 02891\, United States
ATTACH;FMTTYPE=image/png:https://babcocksmithhouse.org/wp-content/uploads/2023/09/2023Newspapers.png
END:VEVENT
BEGIN:VEVENT
DTSTART;TZID=UTC:20230202T140000
DTEND;TZID=UTC:20230202T170000
DTSTAMP:20260421T102714
CREATED:20230901T070141Z
LAST-MODIFIED:20230911T055321Z
UID:393-1675346400-1675357200@babcocksmithhouse.org
SUMMARY:Secrets of the Museum
DESCRIPTION:Presented by Ed Fazio and Tony Smith \nIf you missed the original presentation\, come see photos of seldom-seen features\, such as the Roman archway in the basement\, and share your stories. \nAt the Carriage House.\nFree to members. $5.00 for not-yet members.
URL:https://babcocksmithhouse.org/event/secrets-of-the-museum/
LOCATION:BSHM Carriage House\, 124 Granite Street\, Westerly\, RI\, 02891\, United States
ATTACH;FMTTYPE=image/png:https://babcocksmithhouse.org/wp-content/uploads/2023/09/2023Secrets.png
END:VEVENT
BEGIN:VEVENT
DTSTART;TZID=UTC:20221210T090000
DTEND;TZID=UTC:20221210T120000
DTSTAMP:20260421T102714
CREATED:20230903T062104Z
LAST-MODIFIED:20230911T055422Z
UID:885-1670662800-1670673600@babcocksmithhouse.org
SUMMARY:Christmas at the Babcock-Smith House
DESCRIPTION:The Babcock-Smith House docents will be selling cookies\, raffle baskets and gift certificates. Joshua’s Store will be open. Complimentary hot cider\, cookies\, and mini-muffins. Free tours of the holiday -decorated mansion.
URL:https://babcocksmithhouse.org/event/christmas-at-the-babcock-smith-house/
LOCATION:BSHM Carriage House\, 124 Granite Street\, Westerly\, RI\, 02891\, United States
ATTACH;FMTTYPE=image/gif:https://babcocksmithhouse.org/wp-content/uploads/2023/09/2018HolidayBoutique.gif
END:VEVENT
BEGIN:VEVENT
DTSTART;TZID=UTC:20220712T180000
DTEND;TZID=UTC:20220809T180000
DTSTAMP:20260421T102714
CREATED:20230903T061750Z
LAST-MODIFIED:20230911T055429Z
UID:880-1657648800-1660068000@babcocksmithhouse.org
SUMMARY:Down by the Riverside
DESCRIPTION:rain date July 14\nrain date August 11 \nPresented by Museum volunteers\nMuseum volunteers will share insights into the monuments in an older section of River Bend Cemetery. This year the tour will focus on the people in this section rather than the granite details of the monuments. Parking is most available near the office and the nearby side streets. \nRiverbend Cemetery.\nFree to members. $5.00 for not-yet members.
URL:https://babcocksmithhouse.org/event/down-by-the-riverside/
LOCATION:River Bend Cemetery\, United States
ATTACH;FMTTYPE=image/jpeg:https://babcocksmithhouse.org/wp-content/uploads/2023/09/2018RiverBendCemetery.jpg
END:VEVENT
BEGIN:VEVENT
DTSTART;TZID=UTC:20220629T130000
DTEND;TZID=UTC:20230629T150000
DTSTAMP:20260421T102714
CREATED:20230903T061452Z
LAST-MODIFIED:20230911T055433Z
UID:877-1656507600-1688050800@babcocksmithhouse.org
SUMMARY:Little Victorians Garden Tea
DESCRIPTION:Save the date for another of our delectable tea parties in the Carriage House to celebrate the opening of Little Victorians\, our latest exhibit depicting the world of children during the Victorian Age and beyond. Enjoy a program (to be announced) as well as the usual delicious luncheon fare prepared by the Museum’s docents. \nTickets are $25 and include the Tea Party and viewing of the exhibit in the Museum House.\nAdvance purchase is required; please call (401) 348-5971..
URL:https://babcocksmithhouse.org/event/little-victorians-garden-tea/
LOCATION:BSHM Carriage House\, 124 Granite Street\, Westerly\, RI\, 02891\, United States
ATTACH;FMTTYPE=image/png:https://babcocksmithhouse.org/wp-content/uploads/2023/09/2022VictorianTea.png
END:VEVENT
BEGIN:VEVENT
DTSTART;TZID=UTC:20220605T140000
DTEND;TZID=UTC:20230605T170000
DTSTAMP:20260421T102714
CREATED:20230903T061239Z
LAST-MODIFIED:20230911T055437Z
UID:874-1654437600-1685984400@babcocksmithhouse.org
SUMMARY:Reminisce with Gert
DESCRIPTION:Join us as Gertrude Smith shares her memories of the history of the trust. She and her husband Isaac were part of the history for over forty years of the museum’s development. “We’ve come a long way\, baby.” \nCarriage House\nFree to members. $5.00 for not-yet members.
URL:https://babcocksmithhouse.org/event/reminisce-with-gert/
LOCATION:BSHM Carriage House\, 124 Granite Street\, Westerly\, RI\, 02891\, United States
ATTACH;FMTTYPE=image/jpeg:https://babcocksmithhouse.org/wp-content/uploads/2023/09/2022GertsMemories.jpg
END:VEVENT
BEGIN:VEVENT
DTSTART;TZID=UTC:20220528T140000
DTEND;TZID=UTC:20230528T170000
DTSTAMP:20260421T102714
CREATED:20230903T061025Z
LAST-MODIFIED:20230911T055442Z
UID:871-1653746400-1685293200@babcocksmithhouse.org
SUMMARY:Open House
DESCRIPTION:Join us for our annual open house featuring the opening event of Little Victorians\, a charming new exhibit from the Museum’s textile collection featuring children’s clothing\, toys\, games and books\, along with an exquisite collection of christening gowns from the Victorian Age and beyond. \nView the beautiful handiwork on the babies’ bonnets\, booties and bibs\, and children’s day dresses\, pinafores and coats on display in the Museum House through Labor Day. \nFree tours of the exhibit and child-friendly refreshments. \nCarriage House\nFree to members. $5.00 for not-yet members.
URL:https://babcocksmithhouse.org/event/open-house-2/
LOCATION:BSHM Carriage House\, 124 Granite Street\, Westerly\, RI\, 02891\, United States
ATTACH;FMTTYPE=image/jpeg:https://babcocksmithhouse.org/wp-content/uploads/2023/09/2022VictorianGirlDress.jpg
END:VEVENT
BEGIN:VEVENT
DTSTART;TZID=UTC:20220424T140000
DTEND;TZID=UTC:20220424T160000
DTSTAMP:20260421T102714
CREATED:20230903T061133Z
LAST-MODIFIED:20231105T045136Z
UID:868-1650808800-1650816000@babcocksmithhouse.org
SUMMARY:Celebrating the Evolution of River Bend Cemetery
DESCRIPTION:(rain date May 1) \nPresented by River Bend Cemetery and the Babcock-Smith House Museum\nThe Open House at River Bend Cemetery will celebrate the major renovation of its office and invites the public to tour the office\, view exhibits\, and take short tours of selected stones in the cemetery. \nOpening remarks will be at 2:15. Tours will leave the office on the quarter hour beginning at 2:30. Last tour at 3:30. \nRefreshments by the BSHM Docents. \nAt River Bend Cemetery\nFree to all.
URL:https://babcocksmithhouse.org/event/celebrating-the-evolution-of-river-bend-cemetery/
LOCATION:River Bend Cemetery\, United States
ATTACH;FMTTYPE=image/jpeg:https://babcocksmithhouse.org/wp-content/uploads/2023/09/RiverBendCemetery.jpg
END:VEVENT
BEGIN:VEVENT
DTSTART;TZID=UTC:20220413T183000
DTEND;TZID=UTC:20230413T170000
DTSTAMP:20260421T102714
CREATED:20230903T061121Z
LAST-MODIFIED:20230911T055445Z
UID:866-1649874600-1681405200@babcocksmithhouse.org
SUMMARY:Digging Up the Past
DESCRIPTION:Presented by Matthew Hayden\nHayden\, a Westerly police detective who enjoys treasure hunting with a metal detector\, will discuss and display some of the many historical items found locally including coins\, buttons\, buckles\, and many more. \nAt the Carriage House\nFree to all
URL:https://babcocksmithhouse.org/event/digging-up-the-past/
LOCATION:BSHM Carriage House\, 124 Granite Street\, Westerly\, RI\, 02891\, United States
ATTACH;FMTTYPE=image/jpeg:https://babcocksmithhouse.org/wp-content/uploads/2023/09/westerly-hist-soc-logo1.jpg
END:VEVENT
BEGIN:VEVENT
DTSTART;TZID=UTC:20220327T140000
DTEND;TZID=UTC:20230327T170000
DTSTAMP:20260421T102714
CREATED:20230903T061112Z
LAST-MODIFIED:20230911T055450Z
UID:863-1648389600-1679936400@babcocksmithhouse.org
SUMMARY:Sherlock’s Books
DESCRIPTION:Presented by Bob Madison \nRetired English professor Bob Madison will offer a discussion of the books of Sherlock Holmes—not the books the famous detective appeared in\, but the books that appeared in the famous stories. \nSir Arthur Conan Doyle was himself especially fond of books\, as he wrote in his bibliographical memoir Through the Magic Door\, and many of Doyle’s favorites shaped his well-known Baker Street characters. Professor Madison will share the research for his recent Baker Street Journal article\, including having on hand copies of the volumes purported to have been consulted by Holmes and his chronicler\, Dr. John Watson. \nAt the Carriage House.\nFree to members. $5.00 for not-yet members.
URL:https://babcocksmithhouse.org/event/sherlocks-books/
LOCATION:BSHM Carriage House\, 124 Granite Street\, Westerly\, RI\, 02891\, United States
ATTACH;FMTTYPE=image/jpeg:https://babcocksmithhouse.org/wp-content/uploads/2023/09/2022SherlockHolmes.jpg
END:VEVENT
BEGIN:VEVENT
DTSTART;TZID=UTC:20220309T063000
DTEND;TZID=UTC:20230309T170000
DTSTAMP:20260421T102714
CREATED:20230903T061102Z
LAST-MODIFIED:20230911T055453Z
UID:860-1646807400-1678381200@babcocksmithhouse.org
SUMMARY:Soldiers of the Civil War
DESCRIPTION:Presented by Robert Boucher \nBoucher\, a Civil War reenactor for almost thirty years\, will include a discussion and demonstration of the typical gear worn and used by a Civil War soldier as well as a review of a typical soldier’s food\, medical care\, working conditions\, unit marching procedures and unit battle formations. \nAt the Carriage House\nFree to all
URL:https://babcocksmithhouse.org/event/soldiers-of-the-civil-war/
LOCATION:BSHM Carriage House\, 124 Granite Street\, Westerly\, RI\, 02891\, United States
ATTACH;FMTTYPE=image/jpeg:https://babcocksmithhouse.org/wp-content/uploads/2023/09/westerly-hist-soc-logo1.jpg
END:VEVENT
BEGIN:VEVENT
DTSTART;TZID=UTC:20220220T140000
DTEND;TZID=UTC:20220220T170000
DTSTAMP:20260421T102714
CREATED:20230903T060021Z
LAST-MODIFIED:20231105T045114Z
UID:856-1645365600-1645376400@babcocksmithhouse.org
SUMMARY:Abe Lincoln's Songbook
DESCRIPTION:Presented by Peter PIacquadio and muscians \nCome hear the music which Abraham Lincoln loved. Brass trio with narration. \nAt the Carriage House.\nFree to members. $5.00 for not-yet members.
URL:https://babcocksmithhouse.org/event/abe-lincolns-songbook/
LOCATION:BSHM Carriage House\, 124 Granite Street\, Westerly\, RI\, 02891\, United States
ATTACH;FMTTYPE=image/png:https://babcocksmithhouse.org/wp-content/uploads/2023/09/2020LincolnMusicDixieLand.png
END:VEVENT
BEGIN:VEVENT
DTSTART;TZID=UTC:20211211T090000
DTEND;TZID=UTC:20211211T130000
DTSTAMP:20260421T102714
CREATED:20230903T063849Z
LAST-MODIFIED:20230911T055457Z
UID:901-1639213200-1639227600@babcocksmithhouse.org
SUMMARY:Christmas Boutique
DESCRIPTION:Cookie platters\, raffle of gift certificates\, Joshua’s Store and tours of the decorated mansion house. \nBabcock Smith House Carriage House.\nCurrent Rhode Island Covid rules in effect.
URL:https://babcocksmithhouse.org/event/christmas-boutique/
LOCATION:BSHM Carriage House\, 124 Granite Street\, Westerly\, RI\, 02891\, United States
ATTACH;FMTTYPE=image/gif:https://babcocksmithhouse.org/wp-content/uploads/2023/09/2018HolidayBoutique.gif
END:VEVENT
BEGIN:VEVENT
DTSTART;TZID=UTC:20211003T130000
DTEND;TZID=UTC:20211003T170000
DTSTAMP:20260421T102714
CREATED:20230903T063743Z
LAST-MODIFIED:20230911T055501Z
UID:899-1633266000-1633280400@babcocksmithhouse.org
SUMMARY:The Rhode Island 39 Club: Your Passport & Guide to Exploring RI
DESCRIPTION:Join author and historian\, Marty Podskoch\, for a talk about his new travel book\, The Rhode Island 39 Club\, that encourages people to visit all 39 towns and villages in the RI. \nBabcock Smith House Carriage House.\nFree to members. $5.00 for non-members \nCurrent Rhode Island Covid rules in effect.
URL:https://babcocksmithhouse.org/event/the-rhode-island-39-club-your-passport-guide-to-exploring-ri/
LOCATION:BSHM Carriage House\, 124 Granite Street\, Westerly\, RI\, 02891\, United States
ATTACH;FMTTYPE=image/jpeg:https://babcocksmithhouse.org/wp-content/uploads/2023/09/westerly-hist-soc-logo1.jpg
END:VEVENT
BEGIN:VEVENT
DTSTART;TZID=UTC:20210918T130000
DTEND;TZID=UTC:20230918T170000
DTSTAMP:20260421T102714
CREATED:20230903T063245Z
LAST-MODIFIED:20230911T055505Z
UID:897-1631970000-1695056400@babcocksmithhouse.org
SUMMARY:Auction of Treasures from the Attic
DESCRIPTION:(Raindate Sunday Sept 19) \nSave the date! The Babcock-Smith House has cleared out the historic home’s attic and we’re going to auction off the treasures outdoors on Saturday\, September 18th. Preview and vendors open at 1 PM\, and the auction will start at 2 PM. If you’d like a sneak peek at some of our items\, our wonderful auctioneer Bob Ward has posted 120 photos here: https://www.auctionzip.com/Listings/3597338.html \nBabcock Smith House lawn
URL:https://babcocksmithhouse.org/event/auction-of-treasures-from-the-attic/
LOCATION:BSHM Carriage House\, 124 Granite Street\, Westerly\, RI\, 02891\, United States
ATTACH;FMTTYPE=image/png:https://babcocksmithhouse.org/wp-content/uploads/2023/09/2021AuctionBid-e1709153706695.png
END:VEVENT
BEGIN:VEVENT
DTSTART;TZID=UTC:20210810T180000
DTEND;TZID=UTC:20230810T170000
DTSTAMP:20260421T102714
CREATED:20230903T063028Z
LAST-MODIFIED:20230911T055510Z
UID:895-1628618400-1691686800@babcocksmithhouse.org
SUMMARY:Down by the Riverside - Part II*
DESCRIPTION:(rain date Thursday August 12) \nPresented by Museum volunteers \nMuseum volunteers will share insights into the monuments in a section in River Bend Cemetery along the river. Parking is available on the streets by the fence close to the river. We will meet at the large Nardone monument along the river. \nRiver Bend Cemetery\nNot-yet members $5.00. free for members \n*This is a continuation of the 2020 cemetery tour.
URL:https://babcocksmithhouse.org/event/down-by-the-riverside-part-ii/
LOCATION:River Bend Cemetery\, United States
ATTACH;FMTTYPE=image/jpeg:https://babcocksmithhouse.org/wp-content/uploads/2023/09/2018RiverBendCemetery.jpg
END:VEVENT
BEGIN:VEVENT
DTSTART;TZID=UTC:20210722T180000
DTEND;TZID=UTC:20210722T180000
DTSTAMP:20260421T102714
CREATED:20230903T062905Z
LAST-MODIFIED:20230911T055513Z
UID:893-1626976800-1626976800@babcocksmithhouse.org
SUMMARY:Down by the Riverside - Part II*
DESCRIPTION:Presented by Museum volunteers \nMuseum volunteers will share insights into the monuments in a section in River Bend Cemetery along the river. Parking is available along the streets by the fence along the river. We will all meet at the large Nardone monument along the river. \nRiver Bend Cemetery\nNot-yet members $5; free for members. \n*This is a continuation of the 2020 cemetery tour.
URL:https://babcocksmithhouse.org/event/down-by-the-riverside-part-ii-2/
LOCATION:River Bend Cemetery\, United States
ATTACH;FMTTYPE=image/jpeg:https://babcocksmithhouse.org/wp-content/uploads/2023/09/2018RiverBendCemetery.jpg
END:VEVENT
BEGIN:VEVENT
DTSTART;TZID=UTC:20201227T080000
DTEND;TZID=UTC:20201227T170000
DTSTAMP:20260421T102714
CREATED:20230903T065816Z
LAST-MODIFIED:20231105T050309Z
UID:935-1609056000-1609088400@babcocksmithhouse.org
SUMMARY:Holiday Boutique
DESCRIPTION:POSTPONED UNTIL 2021\nJoin us for a holiday marketplace of cookie platters\, assorted baked goods\, handmade decorative greens\, artisinal soaps\, hearty soups to go…and much\, much more! Place a bid on one of many exquisite raffle baskets and remember to stop in at Joshuas’s Store to see what’s new.\nAt the Carriage House.
URL:https://babcocksmithhouse.org/event/holiday-boutique/
LOCATION:BSHM Carriage House\, 124 Granite Street\, Westerly\, RI\, 02891\, United States
ATTACH;FMTTYPE=image/jpeg:https://babcocksmithhouse.org/wp-content/uploads/2023/09/cookies.jpg
END:VEVENT
BEGIN:VEVENT
DTSTART;VALUE=DATE:20201201
DTEND;VALUE=DATE:20210101
DTSTAMP:20260421T102714
CREATED:20230903T065736Z
LAST-MODIFIED:20231105T045228Z
UID:932-1606780800-1609459199@babcocksmithhouse.org
SUMMARY:Open House - month of December
DESCRIPTION:Visit the museum all gussied up for Christmas.\nVisits are by small family groups and reservations must be made ahead of time. \nAll COVID guidelines are in effect. Call 401-596-5704 for reservations.\nThursday\, Dec. 3 – reservations available at 6 PM and 7 PM\nFriday\, Dec. 4 – same as Thursday\nSaturday\, Dec. 5 – reservations at 2 PM and 3 PM \nDecember 10\, 11\, 12 same as prior week\nDecember 17\, 18\, 19 same as prior weeks
URL:https://babcocksmithhouse.org/event/open-house-month-of-december/
LOCATION:BSHM Carriage House\, 124 Granite Street\, Westerly\, RI\, 02891\, United States
ATTACH;FMTTYPE=image/jpeg:https://babcocksmithhouse.org/wp-content/uploads/2023/09/2020BSHMParlor-scaled.jpeg
END:VEVENT
BEGIN:VEVENT
DTSTART;TZID=UTC:20201004T140000
DTEND;TZID=UTC:20201004T170000
DTSTAMP:20260421T102714
CREATED:20230903T065500Z
LAST-MODIFIED:20230911T055526Z
UID:926-1601820000-1601830800@babcocksmithhouse.org
SUMMARY:Origin of Westerly Street Names
DESCRIPTION:Presented by John Coduri \nAn enjoyable program on how and why many Westerly Street names were chosen over the years. \nAt the Carriage House. Not-yet members $5; free for members.
URL:https://babcocksmithhouse.org/event/origin-of-westerly-street-names/
LOCATION:BSHM Carriage House\, 124 Granite Street\, Westerly\, RI\, 02891\, United States
ATTACH;FMTTYPE=image/jpeg:https://babcocksmithhouse.org/wp-content/uploads/2023/09/2020WesterlyStreetSign.jpg
END:VEVENT
BEGIN:VEVENT
DTSTART;TZID=UTC:20200920T140000
DTEND;TZID=UTC:20200920T170000
DTSTAMP:20260421T102714
CREATED:20230903T065255Z
LAST-MODIFIED:20230911T055522Z
UID:923-1600610400-1600621200@babcocksmithhouse.org
SUMMARY:The Age of the Octagon
DESCRIPTION:Presented by Virginia Williams \nWell noted for her humor and her research\, Williams will explore a variety of octagon houses. \nAt the Carriage House. Not-yet members $5; free for members.
URL:https://babcocksmithhouse.org/event/the-age-of-the-octagon/
LOCATION:BSHM Carriage House\, 124 Granite Street\, Westerly\, RI\, 02891\, United States
ATTACH;FMTTYPE=image/jpeg:https://babcocksmithhouse.org/wp-content/uploads/2023/09/2020OctagonHouse.jpg
END:VEVENT
BEGIN:VEVENT
DTSTART;TZID=UTC:20200830T140000
DTEND;TZID=UTC:20200830T170000
DTSTAMP:20260421T102714
CREATED:20230903T065153Z
LAST-MODIFIED:20230911T055545Z
UID:920-1598796000-1598806800@babcocksmithhouse.org
SUMMARY:G.S. Greene: Gettysburg Granite
DESCRIPTION:Presented by Tom Foley \nThis program will explore several Smith Granite Company monuments on Culp’s Hill\, Gettysburg\, as well as discuss a piece of Gettysburg granite that found its way to Rhode Island. Tom will present mysteries\, myths and legends in abundance. \nNOTE:  Because of the limitations on numbers due to Covid-19\, we are limiting attendance to 20\, by reservation only. If there is an overflow\, Tom has graciously agreed to repeat the program at 3:30. Please reserve your space by calling the museum at 401-596-5704 or by signing up online at at \nhttps://www.signupgenius.com/go/20F0B49A8A822A6F94-august \nAt the Carriage House. Not-yet members $5; free for members.
URL:https://babcocksmithhouse.org/event/g-s-greene-gettysburg-granite/
LOCATION:BSHM Carriage House\, 124 Granite Street\, Westerly\, RI\, 02891\, United States
ATTACH;FMTTYPE=image/jpeg:https://babcocksmithhouse.org/wp-content/uploads/2023/09/2020George_S._Greene.jpg
END:VEVENT
BEGIN:VEVENT
DTSTART;TZID=UTC:20200716T180000
DTEND;TZID=UTC:20200716T180000
DTSTAMP:20260421T102714
CREATED:20230903T065610Z
LAST-MODIFIED:20231105T044413Z
UID:929-1594922400-1594922400@babcocksmithhouse.org
SUMMARY:Down by the Riverside
DESCRIPTION:Presented by Museum volunteers \nMuseum volunteers will share insights into the monuments in the old section of river Bend Cemetery along the river. Parking is most available near the office. For who wish to be closer\, drive past the office toward the river. We will all meet at the Middleton Mausoleum on the North side of the cemetery. \nRiverbend Cemetery. Not-yet members $5; free for members.
URL:https://babcocksmithhouse.org/event/down-by-the-riverside-2/
LOCATION:River Bend Cemetery\, United States
ATTACH;FMTTYPE=image/jpeg:https://babcocksmithhouse.org/wp-content/uploads/2023/09/2018RiverBendCemetery.jpg
END:VEVENT
BEGIN:VEVENT
DTSTART;TZID=UTC:20200716T180000
DTEND;TZID=UTC:20200716T180000
DTSTAMP:20260421T102714
CREATED:20230903T065014Z
LAST-MODIFIED:20231105T050148Z
UID:918-1594922400-1594922400@babcocksmithhouse.org
SUMMARY:Down by the Riverside
DESCRIPTION:(rain date July 23 at 6 pm) \nPresented by Museum volunteers \nMuseum volunteers will share insights into the monuments in the old section of river Bend Cemetery along the river. Parking is most available near the office. For who wish to be closer\, drive past the office toward the river. We will all meet at the Middleton Mausoleum on the North side of the cemetery. \nRiverbend Cemetery. Not-yet members $5; free for members.
URL:https://babcocksmithhouse.org/event/down-by-the-riverside-3/
LOCATION:River Bend Cemetery\, United States
ATTACH;FMTTYPE=image/jpeg:https://babcocksmithhouse.org/wp-content/uploads/2023/09/2018RiverBendCemetery.jpg
END:VEVENT
BEGIN:VEVENT
DTSTART;TZID=UTC:20200329T140000
DTEND;TZID=UTC:20200329T170000
DTSTAMP:20260421T102714
CREATED:20230903T064809Z
LAST-MODIFIED:20230911T055554Z
UID:913-1585490400-1585501200@babcocksmithhouse.org
SUMMARY:Abe Lincoln's Songbook
DESCRIPTION:Presented by Peter PIacquadio and muscians \nCome hear the music which Abraham Lincoln loved. Brass trio with narration. \nAt the Carriage House.    Not-yet members $5; free for members.
URL:https://babcocksmithhouse.org/event/abe-lincolns-songbook-2/
LOCATION:BSHM Carriage House\, 124 Granite Street\, Westerly\, RI\, 02891\, United States
ATTACH;FMTTYPE=image/png:https://babcocksmithhouse.org/wp-content/uploads/2023/09/2020LincolnMusicDixieLand.png
END:VEVENT
BEGIN:VEVENT
DTSTART;TZID=UTC:20200315T140000
DTEND;TZID=UTC:20200315T170000
DTSTAMP:20260421T102714
CREATED:20230903T064706Z
LAST-MODIFIED:20230911T055559Z
UID:911-1584280800-1584291600@babcocksmithhouse.org
SUMMARY:Vintage Baseball in Westerly
DESCRIPTION:Presented by Russell Soder \nA chat about the Westerly Quarrymen\, the game we play and how we play it.  Discover our beloved pastime in its original form\, circa 1864. \nAt the Carriage House.  Not-yet members $5.00; free for members.
URL:https://babcocksmithhouse.org/event/vintage-baseball-in-westerly/
LOCATION:BSHM Carriage House\, 124 Granite Street\, Westerly\, RI\, 02891\, United States
ATTACH;FMTTYPE=image/jpeg:https://babcocksmithhouse.org/wp-content/uploads/2023/09/westerly-hist-soc-logo1.jpg
END:VEVENT
BEGIN:VEVENT
DTSTART;TZID=UTC:20200308T140000
DTEND;TZID=UTC:20200308T170000
DTSTAMP:20260421T102714
CREATED:20230903T064524Z
LAST-MODIFIED:20230911T055707Z
UID:908-1583676000-1583686800@babcocksmithhouse.org
SUMMARY:Lazzari & Barton - Rediscovering My Family's Monument Business and its Westerly Connections
DESCRIPTION:Presented by Hugh Barton \nLearn about the search to find out more about Lazzari and Barton. \nAt the Carriage House. Not-yet members $5; free for members.
URL:https://babcocksmithhouse.org/event/lazzari-barton-rediscovering-my-familys-monument-business-and-its-westerly-connections/
LOCATION:BSHM Carriage House\, 124 Granite Street\, Westerly\, RI\, 02891\, United States
ATTACH;FMTTYPE=image/jpeg:https://babcocksmithhouse.org/wp-content/uploads/2023/09/2020LazzariBarton.jpg
END:VEVENT
BEGIN:VEVENT
DTSTART;TZID=UTC:20200223T140000
DTEND;TZID=UTC:20200223T170000
DTSTAMP:20260421T102714
CREATED:20230903T064141Z
LAST-MODIFIED:20230911T055610Z
UID:906-1582466400-1582477200@babcocksmithhouse.org
SUMMARY:The Woman's Suffrage Movement in Rhode Island - The Quest for Equality
DESCRIPTION:Presented by Russ DeSimone \nThe talk looks at the struggle for equality and access to the ballot box beginning in the mid-nineteenth century up to the passage of the 19th Amendment in 1920. \nAt the Carriage House.  Not-yet members $5.00; free for members.
URL:https://babcocksmithhouse.org/event/the-womans-suffrage-movement-in-rhode-island-the-quest-for-equality/
LOCATION:BSHM Carriage House\, 124 Granite Street\, Westerly\, RI\, 02891\, United States
ATTACH;FMTTYPE=image/jpeg:https://babcocksmithhouse.org/wp-content/uploads/2023/09/westerly-hist-soc-logo1.jpg
END:VEVENT
END:VCALENDAR