BEGIN:VCALENDAR
VERSION:2.0
PRODID:-//Babcock-Smith House Museum - ECPv6.15.20//NONSGML v1.0//EN
CALSCALE:GREGORIAN
METHOD:PUBLISH
X-WR-CALNAME:Babcock-Smith House Museum
X-ORIGINAL-URL:https://babcocksmithhouse.org
X-WR-CALDESC:Events for Babcock-Smith House Museum
REFRESH-INTERVAL;VALUE=DURATION:PT1H
X-Robots-Tag:noindex
X-PUBLISHED-TTL:PT1H
BEGIN:VTIMEZONE
TZID:UTC
BEGIN:STANDARD
TZOFFSETFROM:+0000
TZOFFSETTO:+0000
TZNAME:UTC
DTSTART:20110101T000000
END:STANDARD
END:VTIMEZONE
BEGIN:VEVENT
DTSTART;TZID=UTC:20120226T080000
DTEND;TZID=UTC:20120226T170000
DTSTAMP:20260423T004107
CREATED:20231106T121328Z
LAST-MODIFIED:20231106T121328Z
UID:2324-1330243200-1330275600@babcocksmithhouse.org
SUMMARY:Ledyard Up and Down Sawmill
DESCRIPTION:Come learn about the only 19th century up and down\, or sash-type\, sawmill that still operates with its original equipment on its original site. \nSponsored by the Westerly Historical Society\nAt the Carriage House. Free
URL:https://babcocksmithhouse.org/event/ledyard-up-and-down-sawmill/
LOCATION:BSHM Carriage House\, 124 Granite Street\, Westerly\, RI\, 02891\, United States
ATTACH;FMTTYPE=image/jpeg:https://babcocksmithhouse.org/wp-content/uploads/2023/11/up-and-down-sawmill.jpg
END:VEVENT
BEGIN:VEVENT
DTSTART;TZID=UTC:20120129T140000
DTEND;TZID=UTC:20120129T170000
DTSTAMP:20260423T004107
CREATED:20231106T121103Z
LAST-MODIFIED:20231106T121103Z
UID:2320-1327845600-1327856400@babcocksmithhouse.org
SUMMARY:Shipwrecks Along the Shore
DESCRIPTION:“Wrecks Along the Shore” a presentation by Dwight Brown of shipwrecks off the shore of Southern Rhode Island.  Sponsored by the Westerly Historical Society.  At the Carriage House.
URL:https://babcocksmithhouse.org/event/shipwrecks-along-the-shore/
LOCATION:BSHM Carriage House\, 124 Granite Street\, Westerly\, RI\, 02891\, United States
ATTACH;FMTTYPE=image/jpeg:https://babcocksmithhouse.org/wp-content/uploads/2023/11/ChasWrek1976.jpg
END:VEVENT
END:VCALENDAR