BEGIN:VCALENDAR
VERSION:2.0
PRODID:-//Babcock-Smith House Museum - ECPv6.15.20//NONSGML v1.0//EN
CALSCALE:GREGORIAN
METHOD:PUBLISH
X-WR-CALNAME:Babcock-Smith House Museum
X-ORIGINAL-URL:https://babcocksmithhouse.org
X-WR-CALDESC:Events for Babcock-Smith House Museum
REFRESH-INTERVAL;VALUE=DURATION:PT1H
X-Robots-Tag:noindex
X-PUBLISHED-TTL:PT1H
BEGIN:VTIMEZONE
TZID:UTC
BEGIN:STANDARD
TZOFFSETFROM:+0000
TZOFFSETTO:+0000
TZNAME:UTC
DTSTART:20110101T000000
END:STANDARD
END:VTIMEZONE
BEGIN:VEVENT
DTSTART;TZID=UTC:20140223T140000
DTEND;TZID=UTC:20140223T170000
DTSTAMP:20260422T184849
CREATED:20230903T084843Z
LAST-MODIFIED:20231105T045736Z
UID:1153-1393164000-1393174800@babcocksmithhouse.org
SUMMARY:Civilian Conservation Corps in RI and CT
DESCRIPTION:Marty Podskoch will present a program on the Civilian Conservation Corps in RI and CT. During the 1930s\, taking advantage of the public works programs offered by the Depression-era New Deal\, Burlingame became home to the 141st Company of the Civilian Conservation Corps. Learn its significant contribution. \nAt the Carriage House. Non-members $2.00; members free.
URL:https://babcocksmithhouse.org/event/civilian-conservation-corps-in-ri-and-ct/
LOCATION:BSHM Carriage House\, 124 Granite Street\, Westerly\, RI\, 02891\, United States
ATTACH;FMTTYPE=image/jpeg:https://babcocksmithhouse.org/wp-content/uploads/2023/09/logo_usccc_38-42_200x202.jpg
END:VEVENT
BEGIN:VEVENT
DTSTART;TZID=UTC:20140209T140000
DTEND;TZID=UTC:20140209T170000
DTSTAMP:20260422T184849
CREATED:20230903T084755Z
LAST-MODIFIED:20231105T045721Z
UID:1150-1391954400-1391965200@babcocksmithhouse.org
SUMMARY:Joseph Coduri Granite Company--A Twentieth Century Company
DESCRIPTION:John B. Coduri will share historic photos as he illustrates his talk about the Joseph Coduri Granite Company. He will also show pictures of some of the outstanding monuments produced on Oak Street. \nAt the Carriage House. Non-members $2.00; members free.
URL:https://babcocksmithhouse.org/event/joseph-coduri-granite-company-a-twentieth-century-company/
LOCATION:BSHM Carriage House\, 124 Granite Street\, Westerly\, RI\, 02891\, United States
ATTACH;FMTTYPE=image/jpeg:https://babcocksmithhouse.org/wp-content/uploads/2023/09/Coduri-shedSm.jpg
END:VEVENT
BEGIN:VEVENT
DTSTART;TZID=UTC:20131208T080000
DTEND;TZID=UTC:20131215T170000
DTSTAMP:20260422T184849
CREATED:20230903T093146Z
LAST-MODIFIED:20231105T045837Z
UID:1253-1386489600-1387126800@babcocksmithhouse.org
SUMMARY:A Celebration of Trees
DESCRIPTION:December 8-15\, 2013 (closed Tuesday)\nSundays (2-5pm) Monday (4-7pm) Wednesday (4-8pm) Thursday and Friday (4-7pm) and Saturday and Sunday (2-5pm) \nEach room of the historic home will feature trees each decorated with a different theme. There will also be handmade decorations for sale and special events during the week. \nMembers: FREE; non-members $10.00; children 5-12 $3.00.
URL:https://babcocksmithhouse.org/event/a-celebration-of-trees/
LOCATION:RI
ATTACH;FMTTYPE=image/jpeg:https://babcocksmithhouse.org/wp-content/uploads/2023/09/Tree_logo_web.jpg
END:VEVENT
BEGIN:VEVENT
DTSTART;TZID=UTC:20131207T090000
DTEND;TZID=UTC:20131207T130000
DTSTAMP:20260422T184849
CREATED:20230903T093052Z
LAST-MODIFIED:20230911T060259Z
UID:1250-1386406800-1386421200@babcocksmithhouse.org
SUMMARY:Christmas Bazaar
DESCRIPTION:Come do your Christmas shopping for gifts for someone else or for yourself.  Greens\, gently-used Christmas-related items\, collectibles and cookies.
URL:https://babcocksmithhouse.org/event/christmas-bazaar/
LOCATION:RI
ATTACH;FMTTYPE=image/jpeg:https://babcocksmithhouse.org/wp-content/uploads/2023/09/swag.jpg
END:VEVENT
BEGIN:VEVENT
DTSTART;TZID=UTC:20131103T140000
DTEND;TZID=UTC:20131103T170000
DTSTAMP:20260422T184849
CREATED:20230903T092936Z
LAST-MODIFIED:20230911T060303Z
UID:1248-1383487200-1383498000@babcocksmithhouse.org
SUMMARY:Rhode Island Historian Laureate
DESCRIPTION:Pat Conley will give a presentation of his newest two books “ The Makers of Modern Rhode Island\, 1790-1860” and “People\, Places\, Laws\, and Lore or the Ocean State”. \nAt the Carriage House.
URL:https://babcocksmithhouse.org/event/rhode-island-historian-laureate/
LOCATION:BSHM Carriage House\, 124 Granite Street\, Westerly\, RI\, 02891\, United States
ATTACH;FMTTYPE=image/jpeg:https://babcocksmithhouse.org/wp-content/uploads/2023/09/westerly-hist-soc-logo1.jpg
END:VEVENT
BEGIN:VEVENT
DTSTART;TZID=UTC:20131020T140000
DTEND;TZID=UTC:20131020T170000
DTSTAMP:20260422T184849
CREATED:20230903T092849Z
LAST-MODIFIED:20230911T060307Z
UID:1245-1382277600-1382288400@babcocksmithhouse.org
SUMMARY:Local Post Cards from 1890 to 1950
DESCRIPTION:Local views of the Westerly area will be used throughout the presentation which traces the historic and social development of the post card from the late 19th century into the mid-20th century.\nJoseph E. Coduri\, formerly of Westerly\, has been collecting post cards and preparing post card checklists for more than 30 years with a specialty in Rhode Island villages and railroad stations. He is an active member of Rhode Island Post Card Club. \nAt the Carriage House. Non-members $2.00; members free.
URL:https://babcocksmithhouse.org/event/local-post-cards-from-1890-to-1950/
LOCATION:BSHM Carriage House\, 124 Granite Street\, Westerly\, RI\, 02891\, United States
ATTACH;FMTTYPE=image/jpeg:https://babcocksmithhouse.org/wp-content/uploads/2023/09/DIXON-SQUARE-@-1910-DIXON-HOUSE-COPY.jpg
END:VEVENT
BEGIN:VEVENT
DTSTART;TZID=UTC:20131011T113000
DTEND;TZID=UTC:20131011T133000
DTSTAMP:20260422T184849
CREATED:20230903T092748Z
LAST-MODIFIED:20230911T060313Z
UID:1242-1381491000-1381498200@babcocksmithhouse.org
SUMMARY:Soup’s On—Veggie Style
DESCRIPTION:Join us for seven vegetarian soup and chili offerings and four different kinds of breads. \nAt the Carriage House.  $10.00 at the door.
URL:https://babcocksmithhouse.org/event/soups-on-veggie-style/
LOCATION:BSHM Carriage House\, 124 Granite Street\, Westerly\, RI\, 02891\, United States
ATTACH;FMTTYPE=image/jpeg:https://babcocksmithhouse.org/wp-content/uploads/2023/09/sun-dried-tomato-soup.jpg
END:VEVENT
BEGIN:VEVENT
DTSTART;TZID=UTC:20131006T140000
DTEND;TZID=UTC:20131006T170000
DTSTAMP:20260422T184849
CREATED:20230903T092602Z
LAST-MODIFIED:20230911T060317Z
UID:1240-1381068000-1381078800@babcocksmithhouse.org
SUMMARY:Early New England Restorations
DESCRIPTION:Brian Cooper from Early New England Restorers will present a talk on the restoration project on the Pendleton-Chapman House of Avondale.  His talk and accompanying video & time-lapse photography will cover the origins of the homestead\, the deconstruction\, and how the timbers are being restored. \nAt the Carriage House
URL:https://babcocksmithhouse.org/event/early-new-england-restorations/
LOCATION:BSHM Carriage House\, 124 Granite Street\, Westerly\, RI\, 02891\, United States
ATTACH;FMTTYPE=image/jpeg:https://babcocksmithhouse.org/wp-content/uploads/2023/09/westerly-hist-soc-logo1.jpg
END:VEVENT
BEGIN:VEVENT
DTSTART;TZID=UTC:20130928T140000
DTEND;TZID=UTC:20130928T170000
DTSTAMP:20260422T184849
CREATED:20230903T092439Z
LAST-MODIFIED:20230911T060322Z
UID:1237-1380376800-1380387600@babcocksmithhouse.org
SUMMARY:Smithsonian Magazine National Museum Day
DESCRIPTION:Once again the Babcock-Smith House Museum will participate in Museum Day. In the spirit of Smithsonian Museums\, who offer free admission everyday\, Museum Day is an annual event hosted by Smithsonian magazine in which participating museums across the country open their doors to anyone presenting a Museum Day Ticket…for free. \nOfficial tickets can be found on the Museum Day website at http://www.smithsonianmag.com/museumday/. The Museum Day ticket is available on the Ticket Information page. Fill out the form and you will be emailed instructions to download and print your ticket.
URL:https://babcocksmithhouse.org/event/smithsonian-magazine-national-museum-day/
LOCATION:BSHM Carriage House\, 124 Granite Street\, Westerly\, RI\, 02891\, United States
ATTACH;FMTTYPE=image/png:https://babcocksmithhouse.org/wp-content/uploads/2023/09/Museum-Day-Live-12-top-logo.png
END:VEVENT
BEGIN:VEVENT
DTSTART;TZID=UTC:20130922T140000
DTEND;TZID=UTC:20130922T170000
DTSTAMP:20260422T184849
CREATED:20230903T092347Z
LAST-MODIFIED:20230911T060326Z
UID:1234-1379858400-1379869200@babcocksmithhouse.org
SUMMARY:Short Line and Electric Railroads of Rhode Island
DESCRIPTION:Frank Heppner will present this program sponsored by the Westerly Historical Society. \nAt the Carriage
URL:https://babcocksmithhouse.org/event/short-line-and-electric-railroads-of-rhode-island/
LOCATION:BSHM Carriage House\, 124 Granite Street\, Westerly\, RI\, 02891\, United States
ATTACH;FMTTYPE=image/jpeg:https://babcocksmithhouse.org/wp-content/uploads/2023/09/hepnerbook.jpg
END:VEVENT
BEGIN:VEVENT
DTSTART;TZID=UTC:20130915T140000
DTEND;TZID=UTC:20130915T170000
DTSTAMP:20260422T184849
CREATED:20230903T092256Z
LAST-MODIFIED:20230911T060331Z
UID:1232-1379253600-1379264400@babcocksmithhouse.org
SUMMARY:From Battlefield to Park
DESCRIPTION:Linda Chaffee will illustrate the progression of Chickamauga (Georgia) from a battlefield to the first Civil War military park. Her focus will be on the development of the Ohio monuments and we will discover the reason for the unusual acorn monument.  Also included will be a quick look at the unique monuments made by the Smith Granite Company that are on this less well-known battlefield. \n At the Carriage House Non-members $2.00; members free.
URL:https://babcocksmithhouse.org/event/from-battlefield-to-park/
LOCATION:BSHM Carriage House\, 124 Granite Street\, Westerly\, RI\, 02891\, United States
ATTACH;FMTTYPE=image/jpeg:https://babcocksmithhouse.org/wp-content/uploads/2023/09/Chickamauga.jpg
END:VEVENT
BEGIN:VEVENT
DTSTART;TZID=UTC:20130908T140000
DTEND;TZID=UTC:20130908T170000
DTSTAMP:20260422T184849
CREATED:20230903T092145Z
LAST-MODIFIED:20230911T060335Z
UID:1229-1378648800-1378659600@babcocksmithhouse.org
SUMMARY:Battle of Chickamauga
DESCRIPTION:In the third of a series of programs combining an account of a Civil War battle and the role that the Westerly granite industry played in commemorating that battle\, Cpl. V. E. Johnson will discuss the Battle of Chickamauga\, the site of the largest Union defeat in the western theater of the war. \nAt the Carriage House Non-members $2.00; members free.
URL:https://babcocksmithhouse.org/event/battle-of-chickamauga/
LOCATION:BSHM Carriage House\, 124 Granite Street\, Westerly\, RI\, 02891\, United States
ATTACH;FMTTYPE=image/jpeg:https://babcocksmithhouse.org/wp-content/uploads/2023/09/Chickamauga.jpg
END:VEVENT
BEGIN:VEVENT
DTSTART;TZID=UTC:20130717T140000
DTEND;TZID=UTC:20130717T160000
DTSTAMP:20260422T184849
CREATED:20230903T092050Z
LAST-MODIFIED:20230911T060340Z
UID:1226-1374069600-1374076800@babcocksmithhouse.org
SUMMARY:Favorite Doll Tea
DESCRIPTION:The Museum’s docents have scheduled another of their very popular summer Doll Teas on July 17 this year. Guests bring their favorite dolls for a lovely afternoon tea in the Carriage House and a bit of history. Apart from providing the delicious desserts\, docents take our guests on a short tour of the house including highlights such as the antique doll house. Docent seamstresses also make sure Joshua’s store is well stocked with clothes sized for American Girl dolls. As a special treat this year\, silhouette artist Deborah O’Connor will be on hand to create charming silhouettes of our young guests with their dolls.\n$10.00 per person. Seating is limited. Please purchase tickets in advance by calling 401-348-8178.
URL:https://babcocksmithhouse.org/event/favorite-doll-tea/
LOCATION:BSHM Carriage House\, 124 Granite Street\, Westerly\, RI\, 02891\, United States
ATTACH;FMTTYPE=image/jpeg:https://babcocksmithhouse.org/wp-content/uploads/2023/09/felicity.jpg
END:VEVENT
BEGIN:VEVENT
DTSTART;TZID=UTC:20130630T140000
DTEND;TZID=UTC:20130630T170000
DTSTAMP:20260422T184849
CREATED:20230903T091938Z
LAST-MODIFIED:20230911T060344Z
UID:1223-1372600800-1372611600@babcocksmithhouse.org
SUMMARY:Commemorating the Facts and Feelings of the Battle of Gettysburg
DESCRIPTION:Granite historian Linda Smith Chaffee will examine the monuments from Westerly that commemorate this pivotal battle of the Civil War. Hear the stories that the monuments tell. Appreciate the skill of the statue cutters in capturing emotions. \nAt the Carriage House. Non-members $2.00; members free
URL:https://babcocksmithhouse.org/event/commemorating-the-facts-and-feelings-of-the-battle-of-gettysburg/
LOCATION:BSHM Carriage House\, 124 Granite Street\, Westerly\, RI\, 02891\, United States
ATTACH;FMTTYPE=image/jpeg:https://babcocksmithhouse.org/wp-content/uploads/2023/09/Gettysburg.jpg
END:VEVENT
BEGIN:VEVENT
DTSTART;TZID=UTC:20130623T140000
DTEND;TZID=UTC:20130623T170000
DTSTAMP:20260422T184849
CREATED:20230903T091819Z
LAST-MODIFIED:20230911T060349Z
UID:1220-1371996000-1372006800@babcocksmithhouse.org
SUMMARY:Gettysburg - Three Days That Saved The Union
DESCRIPTION:Cpl. V. E. Johnson\, Battery C\, First Rhode Island Light Artillery will focus on the battle of Little Round Top and the three Union officers whose heroic actions turned the tide: General John Buford\, General George S. Greene of Rhode Island\, and LTC Joshua Chamberlain\, whose famous and creative manuver on Little Round Top prevented the Rebs from turning the Union left flank.\nAt the Carriage House. Non-members $2.00; members free
URL:https://babcocksmithhouse.org/event/gettysburg-three-days-that-saved-the-union/
LOCATION:BSHM Carriage House\, 124 Granite Street\, Westerly\, RI\, 02891\, United States
ATTACH;FMTTYPE=image/jpeg:https://babcocksmithhouse.org/wp-content/uploads/2023/09/GettysburgSm.jpg
END:VEVENT
BEGIN:VEVENT
DTSTART;TZID=UTC:20130609T080000
DTEND;TZID=UTC:20130609T170000
DTSTAMP:20260422T184849
CREATED:20230903T091651Z
LAST-MODIFIED:20230911T060353Z
UID:1217-1370764800-1370797200@babcocksmithhouse.org
SUMMARY:"The View from Mary's Farm" Edie Clark - Contributing Writer\, Yankee Magazine
DESCRIPTION:Edie Clark has written extensively about New England in award-winning feature stories and columns for Yankee magazine for more than thirty years. Through the 1980s and the 1990s\, she was Senior Editor for Yankee magazine. She has taught at several colleges. Among her many books are Monadnock Tales\, a long narrative poem about Mt. Monadnock; The View from Mary’s Farm\, a collection of essays from her column; and Saturday Beans and Sunday Suppers. Her new book\, What There Was Not To Tell\, about World War II\, based on letters between her parents during the war\, will be published in June 2013. Visit her website\, www.edieclark.com\, for more information. \nAt the Carriage House. Non-members $10.00; members $5.00
URL:https://babcocksmithhouse.org/event/the-view-from-marys-farm-edie-clark-contributing-writer-yankee-magazine/
LOCATION:BSHM Carriage House\, 124 Granite Street\, Westerly\, RI\, 02891\, United States
ATTACH;FMTTYPE=image/jpeg:https://babcocksmithhouse.org/wp-content/uploads/2023/09/EdieHead.jpg
END:VEVENT
BEGIN:VEVENT
DTSTART;TZID=UTC:20130428T140000
DTEND;TZID=UTC:20130428T170000
DTSTAMP:20260422T184849
CREATED:20230903T091550Z
LAST-MODIFIED:20230911T060357Z
UID:1214-1367157600-1367168400@babcocksmithhouse.org
SUMMARY:Long Time Gone: Neighbors Divided by Civil War
DESCRIPTION:Les Rolston\, author of several books on Civil War “ordinary people who do extraordinary things” will present a program based on his book Long Time Gone: Neighbors Divided by Civil War. It is an epic story of two young Rhode Islanders—boyhood friends from the sleepy seaside village of Pawtuxet—who as teenagers fought in the Civil War on opposite sides. Elisha Hunt Rhodes served with the 2nd Rhode Island Regiment while schoolmate James Rhodes Sheldon shouldered a musket in the 50th Georgia Infantry. What these two youngsters saw\, felt\, and suffered through makes for absolutely riveting reading. \nAt the Carriage House. Non-members $2.00; members free
URL:https://babcocksmithhouse.org/event/long-time-gone-neighbors-divided-by-civil-war/
LOCATION:BSHM Carriage House\, 124 Granite Street\, Westerly\, RI\, 02891\, United States
ATTACH;FMTTYPE=image/jpeg:https://babcocksmithhouse.org/wp-content/uploads/2023/09/2010_Kennesaw_Civil_War_symp.jpg
END:VEVENT
BEGIN:VEVENT
DTSTART;TZID=UTC:20130407T140000
DTEND;TZID=UTC:20130407T170000
DTSTAMP:20260422T184849
CREATED:20230903T091447Z
LAST-MODIFIED:20230911T060401Z
UID:1211-1365343200-1365354000@babcocksmithhouse.org
SUMMARY:Scott Molloy - Labor Relations Department\, URI
DESCRIPTION:Scott Molloy\, Professor of Labor Relations at the University of Rhode Island and historian\, will speak on “Hidden Rhode Island History”. \nSponsored by the Westerly Historical Society.
URL:https://babcocksmithhouse.org/event/scott-molloy-labor-relations-department-uri/
LOCATION:Westerly Historical Society
ATTACH;FMTTYPE=image/jpeg:https://babcocksmithhouse.org/wp-content/uploads/2023/09/Scott_Molloy.jpg
END:VEVENT
BEGIN:VEVENT
DTSTART;TZID=UTC:20130310T140000
DTEND;TZID=UTC:20130310T170000
DTSTAMP:20260422T184849
CREATED:20230903T091355Z
LAST-MODIFIED:20230911T060406Z
UID:1208-1362924000-1362934800@babcocksmithhouse.org
SUMMARY:Uncle Tom’s Cabin: A Call to Action
DESCRIPTION:Although it is not true\, many people believe that when Lincoln met Harriet Beecher Stowe\, he said\, “So this is the little lady that started this great war.” It is true\, however\, that this novel helped lay the ground work for the Civil War. Presented by Ellen Madison whose doctoral dissertation was on Uncle Tom’s Cabin. \nAt the Carriage House. Non-members $2.00; members free.
URL:https://babcocksmithhouse.org/event/uncle-toms-cabin-a-call-to-action/
LOCATION:BSHM Carriage House\, 124 Granite Street\, Westerly\, RI\, 02891\, United States
ATTACH;FMTTYPE=image/jpeg:https://babcocksmithhouse.org/wp-content/uploads/2023/09/345px-UncleTomsCabinCover.jpg
END:VEVENT
BEGIN:VEVENT
DTSTART;TZID=UTC:20130303T140000
DTEND;TZID=UTC:20130303T170000
DTSTAMP:20260422T184849
CREATED:20230903T091213Z
LAST-MODIFIED:20230911T060410Z
UID:1205-1362319200-1362330000@babcocksmithhouse.org
SUMMARY:Linda Welters - Textile Department\, URI
DESCRIPTION:Linda Welters\, Professor and Textile Department co-chair at the University of Rhode Island\, will speak on the history of Rhode Island quilts. \nSponsored by the Westerly Historical Society.
URL:https://babcocksmithhouse.org/event/linda-welters-textile-department-uri/
LOCATION:Westerly Historical Society
ATTACH;FMTTYPE=image/jpeg:https://babcocksmithhouse.org/wp-content/uploads/2023/09/Linda_Welters_quiltbook.jpg
END:VEVENT
BEGIN:VEVENT
DTSTART;TZID=UTC:20130203T140000
DTEND;TZID=UTC:20130203T170000
DTSTAMP:20260422T184849
CREATED:20230903T091050Z
LAST-MODIFIED:20230911T060414Z
UID:1201-1359900000-1359910800@babcocksmithhouse.org
SUMMARY:Jason Mancini - Mashantucket Pequot Museum
DESCRIPTION:Jason Mancini\, researcher\, Mashantucket Pequot Museum\, will speak on his research of the various local Indian tribes’ mapping project and significance in Westerly\, and Westerly’s north end development after 1910. \nSponsored by the Westerly Historical Society.
URL:https://babcocksmithhouse.org/event/jason-mancini-mashantucket-pequot-museum/
LOCATION:Westerly Historical Society
ATTACH;FMTTYPE=image/jpeg:https://babcocksmithhouse.org/wp-content/uploads/2023/09/pequotmuseum.jpg
END:VEVENT
BEGIN:VEVENT
DTSTART;TZID=UTC:20130106T140000
DTEND;TZID=UTC:20130106T170000
DTSTAMP:20260422T184849
CREATED:20230903T090909Z
LAST-MODIFIED:20230911T060419Z
UID:1198-1357480800-1357491600@babcocksmithhouse.org
SUMMARY:The Emancipation Proclamation at 150
DESCRIPTION:In recognition of the 150th anniversary of the date that the Emanicaption Proclamation went into effect\, former Chief Justice of the Rhode Island Supreme Court Frank Williams will trace the legal status of African Americans from the time before the Emancipation Proclamation to the present. This program is part of a series of programs commemorating the sesquicentennial of the Civil War. \nAt the Carriage House. Non-members $2.00; members free.
URL:https://babcocksmithhouse.org/event/the-emancipation-proclamation-at-150/
LOCATION:BSHM Carriage House\, 124 Granite Street\, Westerly\, RI\, 02891\, United States
ATTACH;FMTTYPE=image/jpeg:https://babcocksmithhouse.org/wp-content/uploads/2023/09/proclamation.jpg
END:VEVENT
BEGIN:VEVENT
DTSTART;TZID=UTC:20121215T130000
DTEND;TZID=UTC:20121215T170000
DTSTAMP:20260422T184849
CREATED:20231106T124513Z
LAST-MODIFIED:20231106T124513Z
UID:2407-1355576400-1355590800@babcocksmithhouse.org
SUMMARY:Celebration of Trees
DESCRIPTION:Don’t miss out on our last day of the event! Every room in the museum will sport trees thematically decorated by individuals\, businesses\, or non-profits in the area.  This will surely be a highlight of your holiday season. \nToday a museum docent will be on hand to read holiday stories to children between 2:00-4:00 pm. \nClick here for a PDF of our Celebration of Trees poster. \nNon-members $10.00; ages 5-12 $3.00\, under 5 years and members free.
URL:https://babcocksmithhouse.org/event/celebration-of-trees-8/
LOCATION:BSHM Carriage House\, 124 Granite Street\, Westerly\, RI\, 02891\, United States
ATTACH;FMTTYPE=image/jpeg:https://babcocksmithhouse.org/wp-content/uploads/2023/11/Tree_logo_web.jpg
END:VEVENT
BEGIN:VEVENT
DTSTART;TZID=UTC:20121214T170000
DTEND;TZID=UTC:20121214T200000
DTSTAMP:20260422T184849
CREATED:20231106T124412Z
LAST-MODIFIED:20231106T124412Z
UID:2405-1355504400-1355515200@babcocksmithhouse.org
SUMMARY:Celebration of Trees
DESCRIPTION:Every room in the museum will sport trees thematically decorated by individuals\, businesses\, or non-profits in the area.  This will surely be a highlight of your holiday season. \nToday docents will greet you in Victorian costume! \nClick here for a PDF of our Celebration of Trees poster. \nNon-members $10.00; ages 5-12 $3.00\, under 5 years and members free.
URL:https://babcocksmithhouse.org/event/celebration-of-trees-7/
LOCATION:BSHM Carriage House\, 124 Granite Street\, Westerly\, RI\, 02891\, United States
ATTACH;FMTTYPE=image/jpeg:https://babcocksmithhouse.org/wp-content/uploads/2023/11/Tree_logo_web.jpg
END:VEVENT
BEGIN:VEVENT
DTSTART;TZID=UTC:20121213T170000
DTEND;TZID=UTC:20121213T200000
DTSTAMP:20260422T184849
CREATED:20231106T124324Z
LAST-MODIFIED:20231106T124324Z
UID:2403-1355418000-1355428800@babcocksmithhouse.org
SUMMARY:Celebration of Trees
DESCRIPTION:Every room in the museum will sport trees thematically decorated by individuals\, businesses\, or non-profits in the area.  This will surely be a highlight of your holiday season. \nToday our special guest is Deborah O’Connor\, Westerly artist and owner of Silhouettes by Deborah O’Connor. She will be at the Museum between 5:00-8:00pm to cut heirloom-quality silhouettes of children and adults while you wait. Click here for more information about the silhouettes\, and here to download an order form. \nClick here for a PDF of our Celebration of Trees poster. \nNon-members $10.00; ages 5-12 $3.00\, under 5 years and members free.
URL:https://babcocksmithhouse.org/event/celebration-of-trees-6/
LOCATION:BSHM Carriage House\, 124 Granite Street\, Westerly\, RI\, 02891\, United States
ATTACH;FMTTYPE=image/jpeg:https://babcocksmithhouse.org/wp-content/uploads/2023/11/Tree_logo_web.jpg
END:VEVENT
BEGIN:VEVENT
DTSTART;TZID=UTC:20121212T170000
DTEND;TZID=UTC:20121212T200000
DTSTAMP:20260422T184849
CREATED:20231106T124239Z
LAST-MODIFIED:20231106T124239Z
UID:2401-1355331600-1355342400@babcocksmithhouse.org
SUMMARY:Celebration of Trees
DESCRIPTION:Every room in the museum will sport trees thematically decorated by individuals\, businesses\, or non-profits in the area.  This will surely be a highlight of your holiday season. \nClick here for a PDF of our Celebration of Trees poster. \nNon-members $10.00; ages 5-12 $3.00\, under 5 years and members free.
URL:https://babcocksmithhouse.org/event/celebration-of-trees-5/
LOCATION:BSHM Carriage House\, 124 Granite Street\, Westerly\, RI\, 02891\, United States
ATTACH;FMTTYPE=image/jpeg:https://babcocksmithhouse.org/wp-content/uploads/2023/11/Tree_logo_web.jpg
END:VEVENT
BEGIN:VEVENT
DTSTART;TZID=UTC:20121211T170000
DTEND;TZID=UTC:20121211T200000
DTSTAMP:20260422T184849
CREATED:20231106T124148Z
LAST-MODIFIED:20231106T124148Z
UID:2399-1355245200-1355256000@babcocksmithhouse.org
SUMMARY:Celebration of Trees
DESCRIPTION:Every room in the museum will sport trees thematically decorated by individuals\, businesses\, or non-profits in the area.  This will surely be a highlight of your holiday season. \nToday our special guest is Deborah O’Connor\, Westerly artist and owner of Silhouettes by Deborah O’Connor. She will be at the Museum between 5:00-8:00pm to cut heirloom-quality silhouettes of children and adults while you wait. Click here for more information about the silhouettes\, and here to download an order form. \nClick here for a PDF of our Celebration of Trees poster. \nNon-members $10.00; ages 5-12 $3.00\, under 5 years and members free.
URL:https://babcocksmithhouse.org/event/celebration-of-trees-4/
LOCATION:BSHM Carriage House\, 124 Granite Street\, Westerly\, RI\, 02891\, United States
ATTACH;FMTTYPE=image/jpeg:https://babcocksmithhouse.org/wp-content/uploads/2023/11/Tree_logo_web.jpg
END:VEVENT
BEGIN:VEVENT
DTSTART;TZID=UTC:20121210T170000
DTEND;TZID=UTC:20121210T200000
DTSTAMP:20260422T184849
CREATED:20231106T124107Z
LAST-MODIFIED:20231106T124107Z
UID:2397-1355158800-1355169600@babcocksmithhouse.org
SUMMARY:Celebration of Trees
DESCRIPTION:Every room in the museum will sport trees thematically decorated by individuals\, businesses\, or non-profits in the area.   This will surely be a highlight of your holiday season. \nClick here for a PDF of our Celebration of Trees poster. \nNon-members $10.00; ages 5-12 $3.00\, under 5 years and members free.
URL:https://babcocksmithhouse.org/event/celebration-of-trees-3/
LOCATION:BSHM Carriage House\, 124 Granite Street\, Westerly\, RI\, 02891\, United States
ATTACH;FMTTYPE=image/jpeg:https://babcocksmithhouse.org/wp-content/uploads/2023/11/Tree_logo_web.jpg
END:VEVENT
BEGIN:VEVENT
DTSTART;TZID=UTC:20121209T130000
DTEND;TZID=UTC:20121209T170000
DTSTAMP:20260422T184849
CREATED:20231106T124024Z
LAST-MODIFIED:20231106T124024Z
UID:2395-1355058000-1355072400@babcocksmithhouse.org
SUMMARY:Celebration of Trees
DESCRIPTION:Every room in the museum will sport trees thematically decorated by individuals\, businesses\, or non-profits in the area.   This will surely be a highlight of your holiday season. \nToday our special guest is Santa! Parents and grandparents are welcome to photograph children with their own cameras. \nClick here for a PDF of our Celebration of Trees poster. \nNon-members $10.00; ages 5-12 $3.00\, under 5 years and members free.
URL:https://babcocksmithhouse.org/event/celebration-of-trees-2/
LOCATION:BSHM Carriage House\, 124 Granite Street\, Westerly\, RI\, 02891\, United States
ATTACH;FMTTYPE=image/jpeg:https://babcocksmithhouse.org/wp-content/uploads/2023/11/Tree_logo_web.jpg
END:VEVENT
BEGIN:VEVENT
DTSTART;TZID=UTC:20121208T130000
DTEND;TZID=UTC:20121208T200000
DTSTAMP:20260422T184849
CREATED:20231106T123944Z
LAST-MODIFIED:20231106T123944Z
UID:2392-1354971600-1354996800@babcocksmithhouse.org
SUMMARY:Celebration of Trees
DESCRIPTION:Opening day of the Babcock-Smith House Celebration of Trees. Every room in the museum will sport trees thematically decorated by individuals\, businesses\, or non-profits in the area.  This will surely be a highlight of your holiday season. \nToday docents will greet you in Victorian costume! \nNon-members $10.00; ages 5-12 $3.00\, under 5 years and members free.
URL:https://babcocksmithhouse.org/event/celebration-of-trees/
LOCATION:BSHM Carriage House\, 124 Granite Street\, Westerly\, RI\, 02891\, United States
ATTACH;FMTTYPE=image/jpeg:https://babcocksmithhouse.org/wp-content/uploads/2023/11/Tree_logo_web.jpg
END:VEVENT
END:VCALENDAR