BEGIN:VCALENDAR
VERSION:2.0
PRODID:-//Babcock-Smith House Museum - ECPv6.15.20//NONSGML v1.0//EN
CALSCALE:GREGORIAN
METHOD:PUBLISH
X-WR-CALNAME:Babcock-Smith House Museum
X-ORIGINAL-URL:https://babcocksmithhouse.org
X-WR-CALDESC:Events for Babcock-Smith House Museum
REFRESH-INTERVAL;VALUE=DURATION:PT1H
X-Robots-Tag:noindex
X-PUBLISHED-TTL:PT1H
BEGIN:VTIMEZONE
TZID:UTC
BEGIN:STANDARD
TZOFFSETFROM:+0000
TZOFFSETTO:+0000
TZNAME:UTC
DTSTART:20130101T000000
END:STANDARD
END:VTIMEZONE
BEGIN:VEVENT
DTSTART;TZID=UTC:20150920T140000
DTEND;TZID=UTC:20150920T170000
DTSTAMP:20260422T180043
CREATED:20230903T084421Z
LAST-MODIFIED:20230911T060046Z
UID:1140-1442757600-1442768400@babcocksmithhouse.org
SUMMARY:Westerly and Its Business (1878)
DESCRIPTION:Using an 1878 Narragansett Weekly article as his guide\, Lido Mochetti will share photos and stories of 1878 businesses and people\, including the Fat Man’s Club\, hotels\, mills\, and the granite industry. \nAt the Carriage House. Non-members $5.00; members free.
URL:https://babcocksmithhouse.org/event/westerly-and-its-business-1878/
LOCATION:BSHM Carriage House\, 124 Granite Street\, Westerly\, RI\, 02891\, United States
ATTACH;FMTTYPE=image/jpeg:https://babcocksmithhouse.org/wp-content/uploads/2023/09/CHRIST-CHURCH-WESTERLY-COPY.jpg
END:VEVENT
BEGIN:VEVENT
DTSTART;TZID=UTC:20150913T140000
DTEND;TZID=UTC:20150913T170000
DTSTAMP:20260422T180043
CREATED:20230903T084318Z
LAST-MODIFIED:20230911T060050Z
UID:1138-1442152800-1442163600@babcocksmithhouse.org
SUMMARY:Spies in Revolutionary Rhode Island
DESCRIPTION:Presented by the Westerly Historical Society \nChristian McBurney\,  http://christianmcburney.com/Historian\, Author\,publisher and editor-in-chief of The Online Review of Rhode Island History\, at www.smallstatebighistory.com. \nEspionage played a vital role during the Revolutionary War in Rhode Island\, both when the British and later the French occupied Newport and the rest of Aquidneck Island. The British and Americans each employed spies to discover the secrets\, plans and positions of their enemy.  Author Christian M. McBurney\, for the first time\, unravels the world of spies and covert operations in Rhode Island during the Revolutionary War.  \nAt the Carriage House. Non-members $5.00; members free.
URL:https://babcocksmithhouse.org/event/spies-in-revolutionary-rhode-island/
LOCATION:BSHM Carriage House\, 124 Granite Street\, Westerly\, RI\, 02891\, United States
ATTACH;FMTTYPE=image/jpeg:https://babcocksmithhouse.org/wp-content/uploads/2023/09/westerly-hist-soc-logo1.jpg
END:VEVENT
BEGIN:VEVENT
DTSTART;TZID=UTC:20150825T190000
DTEND;TZID=UTC:20150825T190000
DTSTAMP:20260422T180043
CREATED:20230903T084220Z
LAST-MODIFIED:20230911T060054Z
UID:1135-1440529200-1440529200@babcocksmithhouse.org
SUMMARY:Connecting the Threads of History Through Quilts
DESCRIPTION:Barbara Barber\, nationally known quilter\, will present a program marked with her creativity and sense of humor. \nAt the Carriage House. Non-members $2.00; members free.
URL:https://babcocksmithhouse.org/event/connecting-the-threads-of-history-through-quilts/
LOCATION:BSHM Carriage House\, 124 Granite Street\, Westerly\, RI\, 02891\, United States
ATTACH;FMTTYPE=image/jpeg:https://babcocksmithhouse.org/wp-content/uploads/2023/09/quilt-2.jpg
END:VEVENT
BEGIN:VEVENT
DTSTART;TZID=UTC:20150813T190000
DTEND;TZID=UTC:20150813T190000
DTSTAMP:20260422T180043
CREATED:20230903T084103Z
LAST-MODIFIED:20230911T060058Z
UID:1132-1439492400-1439492400@babcocksmithhouse.org
SUMMARY:Downton Abbey: Fashion and Social Change
DESCRIPTION:Susan Jerome\, textile expert from the Unversity of Rhode Island will explore the many changes that occurred throughout the time period depicted in Downton Abbey and how these changes influenced fashion. The social\, technological\, and political changes of the early twentieth century were reflected in the notable evolution of women’s and men’s clothing. This powerpoint presentation will look back at what was fashionable – real or otherwise. We will look at some of the influential designers and other persons involved in the years of the first five seasons. \nAt the Carriage House. Non-members $2.00; members free.
URL:https://babcocksmithhouse.org/event/downton-abbey-fashion-and-social-change/
LOCATION:BSHM Carriage House\, 124 Granite Street\, Westerly\, RI\, 02891\, United States
ATTACH;FMTTYPE=image/jpeg:https://babcocksmithhouse.org/wp-content/uploads/2023/09/Downton.jpg
END:VEVENT
BEGIN:VEVENT
DTSTART;TZID=UTC:20150721T190000
DTEND;TZID=UTC:20150721T190000
DTSTAMP:20260422T180043
CREATED:20230903T083802Z
LAST-MODIFIED:20230911T060101Z
UID:1129-1437505200-1437505200@babcocksmithhouse.org
SUMMARY:History Carved in Stone: Lessons from Sculpture In New York City
DESCRIPTION:Linda Chaffee\, granite historian\, will feature Westerly granite monuments in four of the five boroughs of New York City and illustrate how they document our history from our infancy through World War I. \nAt the Carriage House. Non-members $2.00; members free.
URL:https://babcocksmithhouse.org/event/history-carved-in-stone-lessons-from-sculpture-in-new-york-city/
LOCATION:BSHM Carriage House\, 124 Granite Street\, Westerly\, RI\, 02891\, United States
ATTACH;FMTTYPE=image/jpeg:https://babcocksmithhouse.org/wp-content/uploads/2023/09/dcfrench_manhattan_03.jpg
END:VEVENT
BEGIN:VEVENT
DTSTART;TZID=UTC:20150707T190000
DTEND;TZID=UTC:20150707T190000
DTSTAMP:20260422T180043
CREATED:20230903T083709Z
LAST-MODIFIED:20230911T060105Z
UID:1126-1436295600-1436295600@babcocksmithhouse.org
SUMMARY:Some Wisdom on Staying Healthy as You Grow in Years
DESCRIPTION:Phil Clark\, Professor of Gerontology at the University of Rhode Island\, will lead us in a discussion of all the ways we can stay healthy as we get older. \nAt the Carriage House. Non-members $2.00; members free.
URL:https://babcocksmithhouse.org/event/some-wisdom-on-staying-healthy-as-you-grow-in-years/
LOCATION:BSHM Carriage House\, 124 Granite Street\, Westerly\, RI\, 02891\, United States
ATTACH;FMTTYPE=image/jpeg:https://babcocksmithhouse.org/wp-content/uploads/2023/09/uri.jpg
END:VEVENT
BEGIN:VEVENT
DTSTART;TZID=UTC:20150614T140000
DTEND;TZID=UTC:20150614T170000
DTSTAMP:20260422T180043
CREATED:20230903T083537Z
LAST-MODIFIED:20230911T060109Z
UID:1123-1434290400-1434301200@babcocksmithhouse.org
SUMMARY:Two Years in China
DESCRIPTION:Elizabeth Fitzroy joined the Peace Corps when she was 57 and spent two years living in a town in Ganzu Province where she taught English in a local college. She will share her experiences living in China and interacting with the Chinese. \nAt the Carriage House. Non-members $2.00; members free.
URL:https://babcocksmithhouse.org/event/two-years-in-china/
LOCATION:BSHM Carriage House\, 124 Granite Street\, Westerly\, RI\, 02891\, United States
ATTACH;FMTTYPE=image/jpeg:https://babcocksmithhouse.org/wp-content/uploads/2023/09/Ganzu-province.jpg
END:VEVENT
BEGIN:VEVENT
DTSTART;TZID=UTC:20150523T140000
DTEND;TZID=UTC:20150523T170000
DTSTAMP:20260422T180043
CREATED:20230903T083440Z
LAST-MODIFIED:20230911T060112Z
UID:1121-1432389600-1432400400@babcocksmithhouse.org
SUMMARY:Museum Open House
DESCRIPTION:Tour the museum\, see the new home of the Westerly Historical Society\, enjoy a preview of the new Westerly Granite Exhibit and savor refreshments served by our docents. \nFree to all
URL:https://babcocksmithhouse.org/event/museum-open-house/
LOCATION:BSHM Carriage House\, 124 Granite Street\, Westerly\, RI\, 02891\, United States
ATTACH;FMTTYPE=image/gif:https://babcocksmithhouse.org/wp-content/uploads/2023/09/OpenHouse.gif
END:VEVENT
BEGIN:VEVENT
DTSTART;TZID=UTC:20150419T140000
DTEND;TZID=UTC:20150419T170000
DTSTAMP:20260422T180043
CREATED:20230903T083213Z
LAST-MODIFIED:20230911T060122Z
UID:1118-1429452000-1429462800@babcocksmithhouse.org
SUMMARY:The History of the Watch Hill Lighthouse
DESCRIPTION:Ann Snowden Johnson\, President of the Watch Hill Lighthouse Keepers Assoxiation (WHLKA)\, will present a secriptive history of the first Watch Hill lighthouse built in 1808 through current projects factin the association. \nAt the Carriage House
URL:https://babcocksmithhouse.org/event/the-history-of-the-watch-hill-lighthouse/
LOCATION:BSHM Carriage House\, 124 Granite Street\, Westerly\, RI\, 02891\, United States
ATTACH;FMTTYPE=image/jpeg:https://babcocksmithhouse.org/wp-content/uploads/2023/09/WHLighthouseSM.jpg
END:VEVENT
BEGIN:VEVENT
DTSTART;TZID=UTC:20150418T130000
DTEND;TZID=UTC:20150418T170000
DTSTAMP:20260422T180043
CREATED:20230903T083123Z
LAST-MODIFIED:20231105T045558Z
UID:1115-1429362000-1429376400@babcocksmithhouse.org
SUMMARY:Tools and Machinery that Created the Granite Industry
DESCRIPTION:Paul Wood\, author and expert in historic tools\, will trace the changes in granite industry technology. \nAt the Carriage House. Non-members $2.00; members free.
URL:https://babcocksmithhouse.org/event/tools-and-machinery-that-created-the-granite-industry/
LOCATION:BSHM Carriage House\, 124 Granite Street\, Westerly\, RI\, 02891\, United States
ATTACH;FMTTYPE=image/jpeg:https://babcocksmithhouse.org/wp-content/uploads/2023/09/exhibit-wooden-horse-2.jpg
END:VEVENT
BEGIN:VEVENT
DTSTART;TZID=UTC:20150308T140000
DTEND;TZID=UTC:20150308T170000
DTSTAMP:20260422T180043
CREATED:20230903T083023Z
LAST-MODIFIED:20230911T060132Z
UID:1112-1425823200-1425834000@babcocksmithhouse.org
SUMMARY:Stonewalls
DESCRIPTION:Bruce Brawley will share his fascination with stone walls\, a unique feature of the New England region. \nAt the Carriage House. Non-members $2.00; members free.
URL:https://babcocksmithhouse.org/event/stonewalls/
LOCATION:BSHM Carriage House\, 124 Granite Street\, Westerly\, RI\, 02891\, United States
ATTACH;FMTTYPE=image/jpeg:https://babcocksmithhouse.org/wp-content/uploads/2023/09/stonewall.jpg
END:VEVENT
BEGIN:VEVENT
DTSTART;TZID=UTC:20150301T140000
DTEND;TZID=UTC:20150301T170000
DTSTAMP:20260422T180044
CREATED:20230903T082934Z
LAST-MODIFIED:20230911T060136Z
UID:1109-1425218400-1425229200@babcocksmithhouse.org
SUMMARY:The Historic Armories of Rhode Island
DESCRIPTION:Roberta Mudge Humble\nPresident\, Westerly Armory Restoration\, Inc. \nThe oldest of the standing armories in Rhode Island was built in 1835 and the newest in 1928. Brick and granite\, wood and stone – these 18 armories have survived through times where lesser architecture would have failed – over half of the existing buildings are on the National Register of Historic Places. Besides their military missions to safely store arms and to provide homes for military units\, Rhode Island’s armories have a close attachment to the state’s citizenry. From dances and meetings to circuses with Tom Thumb\, voting\, polio clinics\, car shows\, State Inauguration Balls – and home to the fast break in basketball\, the armories have welcomed the people of Rhode Island. This presentation includes a PowerPoint presentation of all 18 of Rhode Island’s historic armories. \nAt the Cariage House
URL:https://babcocksmithhouse.org/event/the-historic-armories-of-rhode-island/
LOCATION:BSHM Carriage House\, 124 Granite Street\, Westerly\, RI\, 02891\, United States
ATTACH;FMTTYPE=image/jpeg:https://babcocksmithhouse.org/wp-content/uploads/2023/09/Armory.jpg
END:VEVENT
BEGIN:VEVENT
DTSTART;TZID=UTC:20150222T140000
DTEND;TZID=UTC:20150222T170000
DTSTAMP:20260422T180044
CREATED:20230903T082832Z
LAST-MODIFIED:20230911T060145Z
UID:1106-1424613600-1424624400@babcocksmithhouse.org
SUMMARY:Data Protection and Backup in Personal Computing
DESCRIPTION:Christopher Allen will present \nAt the Carriage House. Non-members $2.00; members free.
URL:https://babcocksmithhouse.org/event/data-protection-and-backup-in-personal-computing/
LOCATION:BSHM Carriage House\, 124 Granite Street\, Westerly\, RI\, 02891\, United States
ATTACH;FMTTYPE=image/jpeg:https://babcocksmithhouse.org/wp-content/uploads/2023/09/it_photo_105973.jpg
END:VEVENT
BEGIN:VEVENT
DTSTART;TZID=UTC:20150208T140000
DTEND;TZID=UTC:20150208T170000
DTSTAMP:20260422T180044
CREATED:20230903T082659Z
LAST-MODIFIED:20230911T060155Z
UID:1103-1423404000-1423414800@babcocksmithhouse.org
SUMMARY:Tractors
DESCRIPTION:Harry and Maureen Bjorkland of the Rhode Island Antique Tractor Club will discuss the history of farm tractors and the growing hobby of collecting antique tractors. \nAt the Carriage House. Non-members $2.00; members free.
URL:https://babcocksmithhouse.org/event/tractors/
LOCATION:BSHM Carriage House\, 124 Granite Street\, Westerly\, RI\, 02891\, United States
ATTACH;FMTTYPE=image/jpeg:https://babcocksmithhouse.org/wp-content/uploads/2023/09/SuperASM.jpg
END:VEVENT
BEGIN:VEVENT
DTSTART;TZID=UTC:20150125T140000
DTEND;TZID=UTC:20150125T170000
DTSTAMP:20260422T180044
CREATED:20230903T082608Z
LAST-MODIFIED:20230911T060159Z
UID:1100-1422194400-1422205200@babcocksmithhouse.org
SUMMARY:The Changing World of Media
DESCRIPTION:Betty-Jo Cugini Greene\, former Channel 10 news director\, will present \nAt the Carriage House. Non-members $2.00; members free.
URL:https://babcocksmithhouse.org/event/the-changing-world-of-media/
LOCATION:BSHM Carriage House\, 124 Granite Street\, Westerly\, RI\, 02891\, United States
ATTACH;FMTTYPE=image/jpeg:https://babcocksmithhouse.org/wp-content/uploads/2023/09/Betty-Jo.jpg
END:VEVENT
BEGIN:VEVENT
DTSTART;TZID=UTC:20150111T140000
DTEND;TZID=UTC:20150111T170000
DTSTAMP:20260422T180044
CREATED:20230903T082453Z
LAST-MODIFIED:20230911T060203Z
UID:1098-1420984800-1420995600@babcocksmithhouse.org
SUMMARY:“The Quest for Peace Negotiations to End the Civil War Almost Derails President Lincoln’s Re-election in 1864”
DESCRIPTION:Former Chief Justice of the Rhode Island Supreme Court Frank Williams will speak about the effect of peace negotiations on Lincoln’s re-election campaign in 1864 \nAt the Carriage House. Non-members $2.00; members free.
URL:https://babcocksmithhouse.org/event/the-quest-for-peace-negotiations-to-end-the-civil-war-almost-derails-president-lincolns-re-election-in-1864/
LOCATION:BSHM Carriage House\, 124 Granite Street\, Westerly\, RI\, 02891\, United States
ATTACH;FMTTYPE=image/jpeg:https://babcocksmithhouse.org/wp-content/uploads/2023/09/frank-williams.jpg
END:VEVENT
BEGIN:VEVENT
DTSTART;TZID=UTC:20141207T140000
DTEND;TZID=UTC:20141207T170000
DTSTAMP:20260422T180044
CREATED:20230903T090810Z
LAST-MODIFIED:20230911T060212Z
UID:1195-1417960800-1417971600@babcocksmithhouse.org
SUMMARY:Holiday Weekend
DESCRIPTION:Holiday Concert in the Carriage House at 2 pm will feature Dunn’s Corners Community Bell Ringers\, Michael Grillo soloist and the Westerly High School vocal emsemble.\nRefreshments will be served following the concert.\nThe Celebration of Trees will be open from 2:45 to 5:00 pm.\nHoliday shopping available at Joshua’s Store. \n$10/person; children under 12 free	Weekend Ticket $15
URL:https://babcocksmithhouse.org/event/holiday-weekend/
LOCATION:BSHM Carriage House\, 124 Granite Street\, Westerly\, RI\, 02891\, United States
ATTACH;FMTTYPE=image/jpeg:https://babcocksmithhouse.org/wp-content/uploads/2023/09/bells.jpg
END:VEVENT
BEGIN:VEVENT
DTSTART;TZID=UTC:20141206T090000
DTEND;TZID=UTC:20141206T130000
DTSTAMP:20260422T180044
CREATED:20230903T090709Z
LAST-MODIFIED:20230911T060215Z
UID:1192-1417856400-1417870800@babcocksmithhouse.org
SUMMARY:Holiday Weekend
DESCRIPTION:The Bazaar and more \nStock up on Baked Goods and Cookies	Take a chance at the Basket raffle\nTake a break with Muffins and Coffee	Find a bargain at Christmas Past-gently used Christmas item\nFind a one of a kind item at Crafted Christmas–handcrafted new ornaments for your tree.	Greens\nBuy Built from Stone: The Westerly Granite Story	Buy Carved from Stone: The Legacy of a Granite Town–a video to premier of RIPBS December 3\nFind the perfect gift at Joshua’s store\, which is well stocked with handcrafted items for your shopping convenience.\nBuy raffle tickets to win a Candlelight Dinner for 12 in the elegant museum dining room. \nOne ticket $10; three tickets $25 \nTour the Celebration of Trees in the museum \n$5/person; children under 12 free \n$5/person; children under 12 free	Weekend Ticket $15
URL:https://babcocksmithhouse.org/event/holiday-weekend-2/
LOCATION:BSHM Carriage House\, 124 Granite Street\, Westerly\, RI\, 02891\, United States
ATTACH;FMTTYPE=image/jpeg:https://babcocksmithhouse.org/wp-content/uploads/2023/09/trees-penguin.jpg
END:VEVENT
BEGIN:VEVENT
DTSTART;TZID=UTC:20141205T190000
DTEND;TZID=UTC:20141205T210000
DTSTAMP:20260422T180044
CREATED:20230903T090551Z
LAST-MODIFIED:20230911T060219Z
UID:1189-1417806000-1417813200@babcocksmithhouse.org
SUMMARY:Holiday Weekend
DESCRIPTION:Tour the Celebration of trees at the museum\nPreview shop at the bazaar and Joshua’s store\nEnjoy refreshments in the Carriage House \n$10 per person; children under 12 free.     Weekend ticket $15
URL:https://babcocksmithhouse.org/event/holiday-weekend-3/
LOCATION:BSHM Carriage House\, 124 Granite Street\, Westerly\, RI\, 02891\, United States
ATTACH;FMTTYPE=image/jpeg:https://babcocksmithhouse.org/wp-content/uploads/2023/09/Tree-quilted.jpg
END:VEVENT
BEGIN:VEVENT
DTSTART;TZID=UTC:20141109T140000
DTEND;TZID=UTC:20141109T170000
DTSTAMP:20260422T180044
CREATED:20230903T090319Z
LAST-MODIFIED:20230911T060223Z
UID:1183-1415541600-1415552400@babcocksmithhouse.org
SUMMARY:A World of Needlework
DESCRIPTION:A World of Needlework will present a variety of embroidery\, knitting\, quilting\, needlepoint\, and hooking samples from Panama\, Russia\, Egypt\, Canada\, and Laos along with their techniques and stories. Nancy’s own work will illustrate the many and surprising sources of needlework design. \nAt the Carriage House. Non-members $2.00; members free.
URL:https://babcocksmithhouse.org/event/a-world-of-needlework/
LOCATION:BSHM Carriage House\, 124 Granite Street\, Westerly\, RI\, 02891\, United States
ATTACH;FMTTYPE=image/jpeg:https://babcocksmithhouse.org/wp-content/uploads/2023/09/nancy-Ballentine-001SM.jpg
END:VEVENT
BEGIN:VEVENT
DTSTART;TZID=UTC:20141010T113000
DTEND;TZID=UTC:20141010T133000
DTSTAMP:20260422T180044
CREATED:20230903T090233Z
LAST-MODIFIED:20230911T060228Z
UID:1180-1412940600-1412947800@babcocksmithhouse.org
SUMMARY:Veggie Luncheon
DESCRIPTION:A bountiful buffet luncheon of scrumptious vegetarian dishes is served at this popular annual event. See the expanded Carriage House and enjoy a delicious\, hearty luncheon of vegetarian entrees\, soups and desserts. \nTickets available at door for $10.00.
URL:https://babcocksmithhouse.org/event/veggie-luncheon/
LOCATION:BSHM Carriage House\, 124 Granite Street\, Westerly\, RI\, 02891\, United States
ATTACH;FMTTYPE=image/jpeg:https://babcocksmithhouse.org/wp-content/uploads/2023/09/Veggie-Luncheon.jpg
END:VEVENT
BEGIN:VEVENT
DTSTART;TZID=UTC:20141005T140000
DTEND;TZID=UTC:20141005T170000
DTSTAMP:20260422T180044
CREATED:20230903T090016Z
LAST-MODIFIED:20230911T060232Z
UID:1177-1412517600-1412528400@babcocksmithhouse.org
SUMMARY:Ninigret
DESCRIPTION:October 5\, Professor David J. Silverman will discuss his new book\, Ninigret\, Sachem of the Niantics and Narragansetts: Diplomacy\, War\, and the Balance of Power in Seventeenth-Century New England and Indian Country. \nAt the Carriage House\, Sponsored by the Westerly Historical Society\, Free
URL:https://babcocksmithhouse.org/event/ninigret/
LOCATION:BSHM Carriage House\, 124 Granite Street\, Westerly\, RI\, 02891\, United States
ATTACH;FMTTYPE=image/jpeg:https://babcocksmithhouse.org/wp-content/uploads/2023/09/Ninigret.jpg
END:VEVENT
BEGIN:VEVENT
DTSTART;TZID=UTC:20140907T080000
DTEND;TZID=UTC:20140907T170000
DTSTAMP:20260422T180044
CREATED:20230903T090433Z
LAST-MODIFIED:20231105T045914Z
UID:1186-1410076800-1410109200@babcocksmithhouse.org
SUMMARY:Private Showing: Carved from Stone: Legacy of a Granite Town
DESCRIPTION:The premier of the upcoming PBS video based on the book Built from Stone: The Westerly Granite Story. \nAt the Carriage House. \nMembers only
URL:https://babcocksmithhouse.org/event/private-showing-carved-from-stone-legacy-of-a-granite-town/
LOCATION:BSHM Carriage House\, 124 Granite Street\, Westerly\, RI\, 02891\, United States
ATTACH;FMTTYPE=image/jpeg:https://babcocksmithhouse.org/wp-content/uploads/2023/09/Carved-from-StoneSM.jpg
END:VEVENT
BEGIN:VEVENT
DTSTART;TZID=UTC:20140819T190000
DTEND;TZID=UTC:20140819T190000
DTSTAMP:20260422T180044
CREATED:20230903T085926Z
LAST-MODIFIED:20230911T060237Z
UID:1174-1408474800-1408474800@babcocksmithhouse.org
SUMMARY:Building the Big Apple
DESCRIPTION:Granite historian Linda Smith Chaffee will explore the role of Westerly Granite in building the skyline of New York City. From skyscrapers to mansions to a sewage treatment plant Westerly granite was there. \nAt the Carriage House. Non-members $2.00; members free.
URL:https://babcocksmithhouse.org/event/building-the-big-apple/
LOCATION:BSHM Carriage House\, 124 Granite Street\, Westerly\, RI\, 02891\, United States
ATTACH;FMTTYPE=image/jpeg:https://babcocksmithhouse.org/wp-content/uploads/2023/09/NYC-skylinesm.jpg
END:VEVENT
BEGIN:VEVENT
DTSTART;TZID=UTC:20140715T183000
DTEND;TZID=UTC:20140715T183000
DTSTAMP:20260422T180044
CREATED:20230903T085838Z
LAST-MODIFIED:20230911T060241Z
UID:1171-1405449000-1405449000@babcocksmithhouse.org
SUMMARY:A Lionel Christmas in July
DESCRIPTION:Bob Madison\, whose HO scale “Ninigret Cove Branch” was featured in Model Railroader will present “A Lionel Christmas in July.” He will discuss how to assemble an under-the-tree Christmas-themed train layout.  During the presentation participants will have the chance to put the finishing touches on the layout and run a train.  Parents and children welcome. \nAt the Carriage House. Non-members $2.00; members free.
URL:https://babcocksmithhouse.org/event/a-lionel-christmas-in-july/
LOCATION:BSHM Carriage House\, 124 Granite Street\, Westerly\, RI\, 02891\, United States
ATTACH;FMTTYPE=image/jpeg:https://babcocksmithhouse.org/wp-content/uploads/2023/09/lionel_coke_train2.jpg
END:VEVENT
BEGIN:VEVENT
DTSTART;TZID=UTC:20140630T190000
DTEND;TZID=UTC:20140630T190000
DTSTAMP:20260422T180044
CREATED:20230903T085525Z
LAST-MODIFIED:20230911T060245Z
UID:1168-1404154800-1404154800@babcocksmithhouse.org
SUMMARY:Man without a Country
DESCRIPTION:Robert D. Madison\, Professor Emeritus\, U.S. Naval Academy is editor of The Man Without a Country and Other Novel Writings by Edward Everett Hale. With him we wll commemorate Edward Everett Hale’s “The Man Without a Country” 150th Anniversary.  See\, handle\, and read the earliest editions of this famous American short story. \nAt the Carriage House. Non-members $2.00; members free.
URL:https://babcocksmithhouse.org/event/man-without-a-country/
LOCATION:BSHM Carriage House\, 124 Granite Street\, Westerly\, RI\, 02891\, United States
ATTACH;FMTTYPE=image/jpeg:https://babcocksmithhouse.org/wp-content/uploads/2023/09/man-without-country.jpg
END:VEVENT
BEGIN:VEVENT
DTSTART;TZID=UTC:20140504T140000
DTEND;TZID=UTC:20140504T170000
DTSTAMP:20260422T180044
CREATED:20230903T085434Z
LAST-MODIFIED:20230911T060249Z
UID:1165-1399212000-1399222800@babcocksmithhouse.org
SUMMARY:At the Beach: Postcards of the Westerly Beaches
DESCRIPTION:Local views of the Westerly area beaches will be shown throughout the presentation by Joseph\nE. Coduri\, formerly of Westerly. He has been collecting post cards and preparing post card checklists for more than 30 years with a specialty in Rhode Island villages and railroad stations. He is an active member of Rhode Island Post Card Club. \nAt the Carriage House. Non-members $2.00; members free.
URL:https://babcocksmithhouse.org/event/at-the-beach-postcards-of-the-westerly-beaches/
LOCATION:BSHM Carriage House\, 124 Granite Street\, Westerly\, RI\, 02891\, United States
ATTACH;FMTTYPE=image/jpeg:https://babcocksmithhouse.org/wp-content/uploads/2023/09/VIEW-OF-SHORE-FROM-BAY-WATCH-HILL-COPYSM.jpg
END:VEVENT
BEGIN:VEVENT
DTSTART;TZID=UTC:20140406T140000
DTEND;TZID=UTC:20140406T170000
DTSTAMP:20260422T180044
CREATED:20230903T085336Z
LAST-MODIFIED:20230911T060254Z
UID:1162-1396792800-1396803600@babcocksmithhouse.org
SUMMARY:Quilts to Honor\, Teach and Cheer
DESCRIPTION:Nancy Balentine\, a local quilter\, began quilting when she was 35 and has continued to the present. The first part of her program will feature quilts that honor children’s art and needleworkers’ pieces preserved in quilts. The second part will feature quilts that teach literature\, featuring fables\, favorite stories and the Bible. The final part features quilts that are uplifting and cheerful. These will include recreations of Amish quilts and simply playful pieces. \nAt the Carriage House. Non-members $2.00; members free.
URL:https://babcocksmithhouse.org/event/quilts-to-honor-teach-and-cheer/
LOCATION:BSHM Carriage House\, 124 Granite Street\, Westerly\, RI\, 02891\, United States
ATTACH;FMTTYPE=image/jpeg:https://babcocksmithhouse.org/wp-content/uploads/2023/09/quilt-001SM.jpg
END:VEVENT
BEGIN:VEVENT
DTSTART;TZID=UTC:20140330T140000
DTEND;TZID=UTC:20140330T170000
DTSTAMP:20260422T180044
CREATED:20230903T085146Z
LAST-MODIFIED:20231105T045500Z
UID:1159-1396188000-1396198800@babcocksmithhouse.org
SUMMARY:Newport Gardens
DESCRIPTION:Newport Preservation Society’s Gardens and grounds Director Jeff Curtis will present a talk on the preservation and history of the various trees and gardens at the Newport Mansions. Sponsored by the Westerly Historical Society. \nAt the Babcock-Smith House\, Carriage House. Free & Open to the Public.
URL:https://babcocksmithhouse.org/event/newport-gardens/
LOCATION:BSHM Carriage House\, 124 Granite Street\, Westerly\, RI\, 02891\, United States
ATTACH;FMTTYPE=image/jpeg:https://babcocksmithhouse.org/wp-content/uploads/2023/09/newport-garden.jpg
END:VEVENT
BEGIN:VEVENT
DTSTART;TZID=UTC:20140323T140000
DTEND;TZID=UTC:20140323T170000
DTSTAMP:20260422T180044
CREATED:20230903T084955Z
LAST-MODIFIED:20231105T045753Z
UID:1156-1395583200-1395594000@babcocksmithhouse.org
SUMMARY:Sullivan Granite Company
DESCRIPTION:Susan Sullivan Brocato\, great-granddaughter of John B. Sullivan\, will trace the history of the Sullivan Granite Company\, explain the quarrying process and show examples of monuments made from Sullivan Granite. \nAt the Carriage House. Non-members $2.00; members free.
URL:https://babcocksmithhouse.org/event/sullivan-granite-company/
LOCATION:BSHM Carriage House\, 124 Granite Street\, Westerly\, RI\, 02891\, United States
ATTACH;FMTTYPE=image/jpeg:https://babcocksmithhouse.org/wp-content/uploads/2023/09/Sullivan-Granite-Logo0001.jpg
END:VEVENT
END:VCALENDAR