BEGIN:VCALENDAR
VERSION:2.0
PRODID:-//Babcock-Smith House Museum - ECPv6.15.20//NONSGML v1.0//EN
CALSCALE:GREGORIAN
METHOD:PUBLISH
X-ORIGINAL-URL:https://babcocksmithhouse.org
X-WR-CALDESC:Events for Babcock-Smith House Museum
REFRESH-INTERVAL;VALUE=DURATION:PT1H
X-Robots-Tag:noindex
X-PUBLISHED-TTL:PT1H
BEGIN:VTIMEZONE
TZID:America/New_York
BEGIN:DAYLIGHT
TZOFFSETFROM:-0500
TZOFFSETTO:-0400
TZNAME:EDT
DTSTART:20250309T070000
END:DAYLIGHT
BEGIN:STANDARD
TZOFFSETFROM:-0400
TZOFFSETTO:-0500
TZNAME:EST
DTSTART:20251102T060000
END:STANDARD
BEGIN:DAYLIGHT
TZOFFSETFROM:-0500
TZOFFSETTO:-0400
TZNAME:EDT
DTSTART:20260308T070000
END:DAYLIGHT
BEGIN:STANDARD
TZOFFSETFROM:-0400
TZOFFSETTO:-0500
TZNAME:EST
DTSTART:20261101T060000
END:STANDARD
BEGIN:DAYLIGHT
TZOFFSETFROM:-0500
TZOFFSETTO:-0400
TZNAME:EDT
DTSTART:20270314T070000
END:DAYLIGHT
BEGIN:STANDARD
TZOFFSETFROM:-0400
TZOFFSETTO:-0500
TZNAME:EST
DTSTART:20271107T060000
END:STANDARD
END:VTIMEZONE
BEGIN:VEVENT
DTSTART;TZID=America/New_York:20261003T140000
DTEND;TZID=America/New_York:20261003T160000
DTSTAMP:20260421T161937
CREATED:20250921T174105Z
LAST-MODIFIED:20250921T174105Z
UID:4484-1791036000-1791043200@babcocksmithhouse.org
SUMMARY:Auction
DESCRIPTION:Bob Ward will auction off donated items of historical\, decorative or other interest.  Preview will be at 1 and all proceeds benefit the Museum.  If you have small items you would like to donate\, please contact us.
URL:https://babcocksmithhouse.org/event/auction/
LOCATION:RI
END:VEVENT
BEGIN:VEVENT
DTSTART;TZID=America/New_York:20261011T140000
DTEND;TZID=America/New_York:20261011T150000
DTSTAMP:20260421T161937
CREATED:20260402T155247Z
LAST-MODIFIED:20260402T155247Z
UID:4740-1791727200-1791730800@babcocksmithhouse.org
SUMMARY:Dear Friend:  Franklin and Babcock Correspondence
DESCRIPTION:Joshua Babcock and Benjamin Franklin were friends and professional colleagues who wrote letters to each other for over 20 years. These letters provide insights into their activities and thoughts in the years leading up to the American Revolutionary War. They evidence the friendship not only between these two men but extending to their families\, wives and children.  Presented by Hugh Barton\n\nFree to members:  $5.00 for not-yet members
URL:https://babcocksmithhouse.org/event/dear-friend-franklin-and-babcock-correspondence/
LOCATION:BSHM Carriage House\, 124 Granite Street\, Westerly\, RI\, 02891\, United States
ATTACH;FMTTYPE=image/png:https://babcocksmithhouse.org/wp-content/uploads/2026/04/unnamed-e1775145116214.png
END:VEVENT
BEGIN:VEVENT
DTSTART;TZID=America/New_York:20261108T140000
DTEND;TZID=America/New_York:20261108T150000
DTSTAMP:20260421T161937
CREATED:20260404T180826Z
LAST-MODIFIED:20260404T180826Z
UID:4744-1794146400-1794150000@babcocksmithhouse.org
SUMMARY:World War II Remembered: Westerly's Greatest Generation in Their Own Words
DESCRIPTION:From the World War II battlefields of Germany\, France\, Iwo Jima and elsewhere\, Westerly’s young men were heroes. Many paid the ultimate price\, and those who survived returned home to build the town into what it is today.\n\nWith the help of their personal letters home\, recorded interviews and newspaper archives\, their stories can now be told in great detail.\n\nPresented by Vito DiPaolo\nFree for Members; $5.00 for not-yet members
URL:https://babcocksmithhouse.org/event/world-war-ii-remembered-westerlys-greatest-generation-in-their-own-words/
LOCATION:RI
ATTACH;FMTTYPE=image/jpeg:https://babcocksmithhouse.org/wp-content/uploads/2026/04/Babcock-Smith-House-Presentation-November-2026-scaled-e1775325806423.jpg
END:VEVENT
BEGIN:VEVENT
DTSTART;TZID=America/New_York:20261205T090000
DTEND;TZID=America/New_York:20261205T120000
DTSTAMP:20260421T161937
CREATED:20260404T181753Z
LAST-MODIFIED:20260404T181753Z
UID:4750-1796461200-1796472000@babcocksmithhouse.org
SUMMARY:Holiday Open House at the Museum
DESCRIPTION:Why bake?  Come cookie shopping and\, while picking out your platter of cookies\, enjoy some free soup\, muffins\, freshly-baked cookies and hot cider.  Then head to the raffle baskets and to Joshua’s Store where a fine selection of homemade items awaits.  You can do the bulk of your holiday shopping right here and support our Museum as well. \n 
URL:https://babcocksmithhouse.org/event/holiday-open-house-at-the-museum-3/
LOCATION:BSHM Carriage House\, 124 Granite Street\, Westerly\, RI\, 02891\, United States
END:VEVENT
END:VCALENDAR