BEGIN:VCALENDAR
VERSION:2.0
PRODID:-//Babcock-Smith House Museum - ECPv6.15.20//NONSGML v1.0//EN
CALSCALE:GREGORIAN
METHOD:PUBLISH
X-ORIGINAL-URL:https://babcocksmithhouse.org
X-WR-CALDESC:Events for Babcock-Smith House Museum
REFRESH-INTERVAL;VALUE=DURATION:PT1H
X-Robots-Tag:noindex
X-PUBLISHED-TTL:PT1H
BEGIN:VTIMEZONE
TZID:America/New_York
BEGIN:DAYLIGHT
TZOFFSETFROM:-0500
TZOFFSETTO:-0400
TZNAME:EDT
DTSTART:20250309T070000
END:DAYLIGHT
BEGIN:STANDARD
TZOFFSETFROM:-0400
TZOFFSETTO:-0500
TZNAME:EST
DTSTART:20251102T060000
END:STANDARD
BEGIN:DAYLIGHT
TZOFFSETFROM:-0500
TZOFFSETTO:-0400
TZNAME:EDT
DTSTART:20260308T070000
END:DAYLIGHT
BEGIN:STANDARD
TZOFFSETFROM:-0400
TZOFFSETTO:-0500
TZNAME:EST
DTSTART:20261101T060000
END:STANDARD
BEGIN:DAYLIGHT
TZOFFSETFROM:-0500
TZOFFSETTO:-0400
TZNAME:EDT
DTSTART:20270314T070000
END:DAYLIGHT
BEGIN:STANDARD
TZOFFSETFROM:-0400
TZOFFSETTO:-0500
TZNAME:EST
DTSTART:20271107T060000
END:STANDARD
END:VTIMEZONE
BEGIN:VEVENT
DTSTART;TZID=America/New_York:20260729T180000
DTEND;TZID=America/New_York:20260729T190000
DTSTAMP:20260421T114138
CREATED:20260317T210821Z
LAST-MODIFIED:20260317T210821Z
UID:4722-1785348000-1785351600@babcocksmithhouse.org
SUMMARY:Downtown Walking Tour of Westerly Granite
DESCRIPTION:Our annual walking tour of Westerly granite in downtown Westerly always draws a crowd\, so plan to be a part of it.  Look at buildings\, monuments and infrastructure with fresh eyes and you will never look at them the same way again.  Meet at the esplanade in the park. \nPlease note that there is no rain date for this tour.  If the tempearture is above 85 degrees at 3 pm\, we will not have the tour. \nFree for members:  $5.00 for not-yet members.
URL:https://babcocksmithhouse.org/event/downtown-walking-tour-of-westerly-granite/
LOCATION:RI
END:VEVENT
END:VCALENDAR