BEGIN:VCALENDAR
VERSION:2.0
PRODID:-//Babcock-Smith House Museum - ECPv6.15.20//NONSGML v1.0//EN
CALSCALE:GREGORIAN
METHOD:PUBLISH
X-WR-CALNAME:Babcock-Smith House Museum
X-ORIGINAL-URL:https://babcocksmithhouse.org
X-WR-CALDESC:Events for Babcock-Smith House Museum
REFRESH-INTERVAL;VALUE=DURATION:PT1H
X-Robots-Tag:noindex
X-PUBLISHED-TTL:PT1H
BEGIN:VTIMEZONE
TZID:America/New_York
BEGIN:DAYLIGHT
TZOFFSETFROM:-0500
TZOFFSETTO:-0400
TZNAME:EDT
DTSTART:20250309T070000
END:DAYLIGHT
BEGIN:STANDARD
TZOFFSETFROM:-0400
TZOFFSETTO:-0500
TZNAME:EST
DTSTART:20251102T060000
END:STANDARD
BEGIN:DAYLIGHT
TZOFFSETFROM:-0500
TZOFFSETTO:-0400
TZNAME:EDT
DTSTART:20260308T070000
END:DAYLIGHT
BEGIN:STANDARD
TZOFFSETFROM:-0400
TZOFFSETTO:-0500
TZNAME:EST
DTSTART:20261101T060000
END:STANDARD
BEGIN:DAYLIGHT
TZOFFSETFROM:-0500
TZOFFSETTO:-0400
TZNAME:EDT
DTSTART:20270314T070000
END:DAYLIGHT
BEGIN:STANDARD
TZOFFSETFROM:-0400
TZOFFSETTO:-0500
TZNAME:EST
DTSTART:20271107T060000
END:STANDARD
END:VTIMEZONE
BEGIN:VEVENT
DTSTART;TZID=America/New_York:20260707T180000
DTEND;TZID=America/New_York:20260707T190000
DTSTAMP:20260421T113901
CREATED:20260317T195212Z
LAST-MODIFIED:20260317T195212Z
UID:4716-1783447200-1783450800@babcocksmithhouse.org
SUMMARY:Cemetery Tour: Revisit the Granite Masters
DESCRIPTION:We have chosen some of River Bend’s most notable monuments to revisit\, most done by Westerly’s best sculptors and carvers.  Learn about them and about how the monuments exemplify their skills. \nPlease note that the “rain” date of Thursday\, July 9 will be in effect if the temperature is above 85 degrees at 3 o’clock. \nFree for members; $5.00 for not-yet members.
URL:https://babcocksmithhouse.org/event/cemetery-tour-revisit-the-granite-masters/
LOCATION:River Bend Cemetery\, United States
END:VEVENT
END:VCALENDAR